BEGIN:VCALENDAR
VERSION:2.0
PRODID:-//ChamberMaster//Event Calendar 2.0//EN
METHOD:PUBLISH
X-PUBLISHED-TTL:P3D
REFRESH-INTERVAL:P3D
CALSCALE:GREGORIAN
BEGIN:VEVENT
DTSTART:20211118T180000Z
DTEND:20211118T190000Z
X-MICROSOFT-CDO-ALLDAYEVENT:FALSE
SUMMARY:Ribbon Cutting | Bombshell Boutique
DESCRIPTION:Join us for a ribbon-cutting for Bombshell Boutique in advance of their re-grand opening!
X-ALT-DESC;FMTTYPE=text/html:<span style="font-size:16px\;"><strong>Join us for a ribbon-cutting for Bombshell Boutique in advance of their re-grand opening!</strong></span><br />\n&nbsp\;
LOCATION:Bombshell Boutique 14790 Wax Rd Suite 109 Central\, LA 70818
UID:e.1367.3023
SEQUENCE:3
DTSTAMP:20260423T145134Z
URL:https://business.cityofcentralchamber.com/events/details/ribbon-cutting-bombshell-boutique-3023
END:VEVENT

END:VCALENDAR
