BEGIN:VCALENDAR
VERSION:2.0
PRODID:-//ChamberMaster//Event Calendar 2.0//EN
METHOD:PUBLISH
X-PUBLISHED-TTL:P3D
REFRESH-INTERVAL:P3D
CALSCALE:GREGORIAN
BEGIN:VEVENT
DTSTART:20210318T170000Z
DTEND:20210318T180000Z
X-MICROSOFT-CDO-ALLDAYEVENT:FALSE
SUMMARY:Ribbon Cutting | Blend Boutique
DESCRIPTION:Grand Opening and Ribbon Cutting for Blend Boutique.\n\n\n\nJoin us for a ribbon-cutting ceremony at noon.\n\n\n\nTheir grand opening celebration will follow in the afternoon!
X-ALT-DESC;FMTTYPE=text/html:<span style="font-size:16px\;"><strong>Grand Opening and Ribbon Cutting for Blend Boutique.</strong><br />\n<br />\n<span style="font-size:14px\;">Join us for a ribbon-cutting ceremony at noon.</span></span><br />\n<br />\n<span style="font-size:14px\;">Their grand opening celebration will follow in the afternoon!</span>
LOCATION:Blend Boutique 13623 Hooper Rd Suite F Central\, LA 70718
UID:e.1367.2978
SEQUENCE:3
DTSTAMP:20260424T025838Z
URL:https://business.cityofcentralchamber.com/events/details/ribbon-cutting-blend-boutique-2978
END:VEVENT

END:VCALENDAR
