BEGIN:VCALENDAR
VERSION:2.0
PRODID:-//ChamberMaster//Event Calendar 2.0//EN
METHOD:PUBLISH
X-PUBLISHED-TTL:P3D
REFRESH-INTERVAL:P3D
CALSCALE:GREGORIAN
BEGIN:VEVENT
DTSTART:20240219T180000Z
DTEND:20240219T183000Z
X-MICROSOFT-CDO-ALLDAYEVENT:FALSE
SUMMARY:Ribbon Cutting - Beauty by Byrd
DESCRIPTION:Join us as we celebrate the Ribbon Cutting for Beauty by Byrd
X-ALT-DESC;FMTTYPE=text/html:Join us as we celebrate the Ribbon Cutting for Beauty by Byrd
LOCATION:13438 Magnolia Square Dr. Suite C\, Baton Rouge\, LA 70818
UID:e.1367.3175
SEQUENCE:3
DTSTAMP:20260421T200825Z
URL:https://business.cityofcentralchamber.com/events/details/ribbon-cutting-beauty-by-byrd-3175
END:VEVENT

END:VCALENDAR
