BEGIN:VCALENDAR
VERSION:2.0
PRODID:-//ChamberMaster//Event Calendar 2.0//EN
METHOD:PUBLISH
X-PUBLISHED-TTL:P3D
REFRESH-INTERVAL:P3D
CALSCALE:GREGORIAN
BEGIN:VEVENT
DTSTART:20211204T220000Z
DTEND:20211204T223000Z
X-MICROSOFT-CDO-ALLDAYEVENT:FALSE
SUMMARY:Ribbon Cutting | Arnold Nutrition Coaching
DESCRIPTION:Join us in celebrating Arnold Nutrition Coaching with a ribbon-cutting ceremony AT Shop the Square. See more on Facebook.
X-ALT-DESC;FMTTYPE=text/html:<span style="font-size:16px\;"><strong>Join us in celebrating Arnold Nutrition Coaching with a ribbon-cutting ceremony AT Shop the Square. <a href="https://www.facebook.com/events/1620526698146668/?active_tab=discussion">See more on Facebook.</a></strong></span><br />\n&nbsp\;
LOCATION:13567 Hooper Rd Central\, LA 70818
UID:e.1367.3009
SEQUENCE:3
DTSTAMP:20260423T120101Z
URL:https://business.cityofcentralchamber.com/events/details/ribbon-cutting-arnold-nutrition-coaching-3009
END:VEVENT

END:VCALENDAR
