BEGIN:VCALENDAR
VERSION:2.0
PRODID:-//ChamberMaster//Event Calendar 2.0//EN
METHOD:PUBLISH
X-PUBLISHED-TTL:P3D
REFRESH-INTERVAL:P3D
CALSCALE:GREGORIAN
BEGIN:VEVENT
DTSTART:20190427T170000Z
DTEND:20190427T180000Z
X-MICROSOFT-CDO-ALLDAYEVENT:FALSE
SUMMARY:Ribbon Cutting and Grand Re-Opening for Bombshell Boutique
DESCRIPTION:Bombshell Boutique's \n\nGrand Re-Opening &\n\nRibbon Cutting
X-ALT-DESC;FMTTYPE=text/html:<strong style="color: rgb(102\, 51\, 51)\; font-size: 14px\;"><span style="color:#8B4513\;">Bombshell Boutique&#39\;s</span>&nbsp\;</strong><br />\n<span style="color: rgb(51\, 51\, 51)\; font-family: sans-serif\, Arial\, Verdana\, &quot\;Trebuchet MS&quot\;\; font-size: 13px\; background-color: rgb(255\, 255\, 255)\;"><strong>Grand Re-Opening &amp\;</strong></span><br />\n<span style="color:#FF0000\;"><strong>Ribbon Cutting</strong></span>&nbsp\;
LOCATION:14790 Wax Rd Suite 109
UID:e.1367.2749
SEQUENCE:3
DTSTAMP:20260425T143659Z
URL:https://business.cityofcentralchamber.com/events/details/ribbon-cutting-and-grand-re-opening-for-bombshell-boutique-2749
END:VEVENT

END:VCALENDAR
