BEGIN:VCALENDAR
VERSION:2.0
PRODID:-//ChamberMaster//Event Calendar 2.0//EN
METHOD:PUBLISH
X-PUBLISHED-TTL:P3D
REFRESH-INTERVAL:P3D
CALSCALE:GREGORIAN
BEGIN:VEVENT
DTSTART:20230421T193000Z
DTEND:20230421T200000Z
X-MICROSOFT-CDO-ALLDAYEVENT:FALSE
SUMMARY:Ribbon Cutting and Grand Opening of Hot Worx
DESCRIPTION:Join us for the Grand Opening and Ribbon Cutting at Hot Worx!
X-ALT-DESC;FMTTYPE=text/html:Join us for the Grand Opening and Ribbon Cutting at Hot Worx!&nbsp\;<br />\n&nbsp\;
LOCATION:9850 Sullivan Road Ste. B
UID:e.1367.3106
SEQUENCE:3
DTSTAMP:20260422T105150Z
URL:https://business.cityofcentralchamber.com/events/details/ribbon-cutting-and-grand-opening-of-hot-worx-3106
END:VEVENT

END:VCALENDAR
