BEGIN:VCALENDAR
VERSION:2.0
PRODID:-//ChamberMaster//Event Calendar 2.0//EN
METHOD:PUBLISH
X-PUBLISHED-TTL:P3D
REFRESH-INTERVAL:P3D
CALSCALE:GREGORIAN
BEGIN:VEVENT
DTSTART:20200130T170000Z
DTEND:20200130T180000Z
X-MICROSOFT-CDO-ALLDAYEVENT:FALSE
SUMMARY:Ribbon Cutting
DESCRIPTION:Ribbon Cutting for\n\nMerakey Gateway
X-ALT-DESC;FMTTYPE=text/html:Ribbon Cutting for<br />\nMerakey Gateway<br />\n&nbsp\;
LOCATION:Cheatham House 13758 Denham Road Central\, LA 70818
UID:e.1367.2939
SEQUENCE:3
DTSTAMP:20260425T011934Z
URL:https://business.cityofcentralchamber.com/events/details/ribbon-cutting-2939
END:VEVENT

END:VCALENDAR
