BEGIN:VCALENDAR
VERSION:2.0
PRODID:-//ChamberMaster//Event Calendar 2.0//EN
METHOD:PUBLISH
X-PUBLISHED-TTL:P3D
REFRESH-INTERVAL:P3D
CALSCALE:GREGORIAN
BEGIN:VEVENT
DTSTART:20210220T200000Z
DTEND:20210220T220000Z
X-MICROSOFT-CDO-ALLDAYEVENT:FALSE
SUMMARY:POSTPONED: Ribbon Cutting | Community Haven
DESCRIPTION:The ribbon-cutting has been postponed until there are sunnier skies. We will let you know when a new date has been selected. We are looking at mid-march. \n\n\n\nJoin us for a ribbon-cutting for Community Haven! A polar plunge in the community pool will follow at 3 pm.\n\n \n6565 Morgan Rd\n\nGreenwell Springs\, LA 70739\n\n\nFebruary 20th\n\nSaturday\, 2 pm\n\n\n\nFree!
X-ALT-DESC;FMTTYPE=text/html:<span style="font-size:16px\;"><strong>The ribbon-cutting has been postponed until there are sunnier skies. We will let you know when a new date has been selected. We are looking at mid-march.&nbsp\;<br />\n<br />\nJoin us for a ribbon-cutting for Community Haven! A polar plunge in the community pool will follow at 3 pm.</strong></span><br />\n&nbsp\;\n<h1 class="section-hero-header-title-title GLOBAL__gm2-headline-5" color:="" google="" jsan="7.section-hero-header-title-title\,7.GLOBAL__gm2-headline-5" jstcache="134" list-style:="" margin:="" outline:="" overflow:="" padding:="" style="line-height: 1.75rem\; background-image: initial\; background-position: initial\; background-size: initial\; background-repeat: initial\; background-attachment: initial\; background-origin: initial\; background-clip: initial\; border: 0px\; border-radius: 0px\; font-variant-numeric: inherit\; font-variant-east-asian: inherit\; font-stretch: inherit\; font-size: 1.375rem\; text-align: center\;" vertical-align:=""><span style="font-family: arial\;"><span style="font-size: 16px\;">6565 Morgan Rd<br />\nGreenwell Springs\, LA 70739</span></span></h1>\n<br />\n<strong style="font-size: 16px\;">February 20th</strong><br style="font-size: 16px\;" />\n<span style="font-size: 14px\;">Saturday\, 2 pm</span><br />\n<br />\n<span style="font-size: 14px\;">Free!&nbsp\;</span>
LOCATION:6565 Morgan Rd Greenwell Springs\, LA 70739
UID:e.1367.2971
SEQUENCE:3
DTSTAMP:20260424T043436Z
URL:https://business.cityofcentralchamber.com/events/details/postponed-ribbon-cutting-community-haven-2971
END:VEVENT

END:VCALENDAR
