BEGIN:VCALENDAR
VERSION:2.0
PRODID:-//ChamberMaster//Event Calendar 2.0//EN
METHOD:PUBLISH
X-PUBLISHED-TTL:P3D
REFRESH-INTERVAL:P3D
CALSCALE:GREGORIAN
BEGIN:VEVENT
DTSTART:20200502T150000Z
DTEND:20200502T190000Z
X-MICROSOFT-CDO-ALLDAYEVENT:FALSE
SUMMARY:POSTPONED: Activate: Central's Mini Fit Fest
DESCRIPTION:Sponsorships Available until April 15th.\n\n\n\nWork out with us! \n\n\n\nActivate a healthier\, happier you on May second.\n\n\n\nJoin Central City Social & the Central Chamber of Commerce for: \n\n	Community workout classes\n	Healthy cooking demonstrations\n	Kids activity center\n	Local shops\n	Food\n	Music\n\n Join us for a mini fitness festival to showcase all our area has to offer in health and fitness.
X-ALT-DESC;FMTTYPE=text/html:<span style="font-size:16px\;"><span style="font-family:verdana\;">Sponsorships Available until April 15th.<br />\n<br />\nWork out with us!&nbsp\;<br />\n<br />\nActivate a healthier\, happier you on May second.<br />\n<br />\nJoin Central City Social &amp\; the Central Chamber of Commerce for:&nbsp\;</span></span>\n<ul>\n	<li><span style="font-size:16px\;"><span style="font-family:verdana\;">Community workout classes</span></span></li>\n	<li><span style="font-size:16px\;"><span style="font-family:verdana\;">Healthy cooking demonstrations</span></span></li>\n	<li><span style="font-size:16px\;"><span style="font-family:verdana\;">Kids activity center</span></span></li>\n	<li><span style="font-size:16px\;"><span style="font-family:verdana\;">Local shops</span></span></li>\n	<li><span style="font-size:16px\;"><span style="font-family:verdana\;">Food</span></span></li>\n	<li><span style="font-size:16px\;"><span style="font-family:verdana\;">Music</span></span></li>\n</ul>\n<span style="font-size:16px\;"><span style="font-family:verdana\;"> Join us for a mini fitness festival to showcase all our area has to offer in health and fitness.&nbsp\;</span></span>
LOCATION:Central Square Sullivan Rd Central\, LA 70818
UID:e.1367.2941
SEQUENCE:3
DTSTAMP:20260424T191450Z
URL:https://business.cityofcentralchamber.com/events/details/postponed-activate-central-s-mini-fit-fest-2941
END:VEVENT

END:VCALENDAR
