BEGIN:VCALENDAR
VERSION:2.0
PRODID:-//ChamberMaster//Event Calendar 2.0//EN
METHOD:PUBLISH
X-PUBLISHED-TTL:P3D
REFRESH-INTERVAL:P3D
CALSCALE:GREGORIAN
BEGIN:VEVENT
DTSTART:20220326T150000Z
DTEND:20220326T200000Z
X-MICROSOFT-CDO-ALLDAYEVENT:FALSE
SUMMARY:Pelican Pays Fest
DESCRIPTION:You're invited to celebrate the Grand Opening of Pelican's new branch at our Corporate Campus on O'Neal Lane in Baton Rouge on Saturday\, March 26!\n\n \n\nBring the whole family to enjoy free Ferris wheel and hot air balloon rides\, a petting zoo\, live music\, and Easter Bunny photos. There will also be food for sale\, games\, balloon twisting\, face painting\, and more!\n\n\n\nIt pays to be a member of Pelican! All current and new Pelican State Credit Union members will have a chance to grab cash from our money machine at the branch from 10 am -1 pm.
X-ALT-DESC;FMTTYPE=text/html:<div class="kvgmc6g5 cxmmr5t8 oygrvhab hcukyx3x c1et5uql" style="box-sizing: border-box\; -webkit-font-smoothing: antialiased\; color: rgb(12\, 28\, 42)\; font-family: &quot\;Open Sans&quot\;\, sans-serif\; font-size: 16px\; background-color: rgb(242\, 250\, 252)\;">You&#39\;re invited to celebrate the Grand Opening of Pelican&#39\;s new branch at our Corporate Campus on O&#39\;Neal Lane in Baton Rouge on Saturday\, March 26!</div>\n\n<div class="kvgmc6g5 cxmmr5t8 oygrvhab hcukyx3x c1et5uql" style="box-sizing: border-box\; -webkit-font-smoothing: antialiased\; color: rgb(12\, 28\, 42)\; font-family: &quot\;Open Sans&quot\;\, sans-serif\; font-size: 16px\; background-color: rgb(242\, 250\, 252)\;">&nbsp\;</div>\n\n<div class="cxmmr5t8 oygrvhab hcukyx3x c1et5uql o9v6fnle" style="box-sizing: border-box\; -webkit-font-smoothing: antialiased\; color: rgb(12\, 28\, 42)\; font-family: &quot\;Open Sans&quot\;\, sans-serif\; font-size: 16px\; background-color: rgb(242\, 250\, 252)\;">Bring the whole family to enjoy free Ferris wheel and hot air balloon rides\, a petting zoo\, live music\, and Easter Bunny photos. There will also be food for sale\, games\, balloon twisting\, face painting\, and more!</div>\n\n<div class="cxmmr5t8 oygrvhab hcukyx3x c1et5uql o9v6fnle" style="box-sizing: border-box\; -webkit-font-smoothing: antialiased\; color: rgb(12\, 28\, 42)\; font-family: &quot\;Open Sans&quot\;\, sans-serif\; font-size: 16px\; background-color: rgb(242\, 250\, 252)\;"><br />\nIt pays to be a member of Pelican! All current and new Pelican State Credit Union members will have a chance to grab cash from our money machine at the branch from 10 am -1 pm.</div>\n
LOCATION:2675 O'Neal Lane Baton Rouge\, LA 70816
UID:e.1367.3058
SEQUENCE:3
DTSTAMP:20260423T072806Z
URL:https://business.cityofcentralchamber.com/events/details/pelican-pays-fest-3058
END:VEVENT

END:VCALENDAR
