BEGIN:VCALENDAR
VERSION:2.0
PRODID:-//ChamberMaster//Event Calendar 2.0//EN
METHOD:PUBLISH
X-PUBLISHED-TTL:P3D
REFRESH-INTERVAL:P3D
CALSCALE:GREGORIAN
BEGIN:VEVENT
DTSTART:20211120T140000Z
DTEND:20211120T160000Z
X-MICROSOFT-CDO-ALLDAYEVENT:FALSE
SUMMARY:Pancake Cook Off 2021
DESCRIPTION:The Annual Central Chamber Pancake Cook-Off kicks off Shop Small Business Central Christmas Event!\n\nAt the finish line of the Running of the Elves 5k\, celebrate your win and celebrate central business with the cheeriest cookoff of the year.
X-ALT-DESC;FMTTYPE=text/html:<div background-color:="" class="kvgmc6g5 cxmmr5t8 oygrvhab hcukyx3x c1et5uql" color:="" font-size:="" segoe="" style="overflow-wrap: break-word\; margin: 0px\; font-family: " ui=""><span style="color:#006400\;"><span style="font-family:arial\;"><span style="font-size:16px\;">The Annual Central Chamber Pancake Cook-Off kicks off Shop Small Business Central Christmas Event!</span></span></span></div>\n\n<div background-color:="" class="o9v6fnle cxmmr5t8 oygrvhab hcukyx3x c1et5uql" color:="" font-size:="" segoe="" style="overflow-wrap: break-word\; margin: 0.5em 0px 0px\; font-family: " ui=""><span style="color:#006400\;"><span style="font-family:arial\;"><span style="font-size:16px\;">At the finish line of the Running of the Elves 5k\, celebrate your win and celebrate central business with the cheeriest cookoff of the year.</span></span></span></div>\n<br />\n&nbsp\;
LOCATION:Central High School Football Stadium 13845 Hooper Rd Central\, LA
UID:e.1367.2993
SEQUENCE:3
DTSTAMP:20260423T133453Z
URL:https://business.cityofcentralchamber.com/events/details/pancake-cook-off-2021-2993
END:VEVENT

END:VCALENDAR
