BEGIN:VCALENDAR
VERSION:2.0
PRODID:-//ChamberMaster//Event Calendar 2.0//EN
METHOD:PUBLISH
X-PUBLISHED-TTL:P3D
REFRESH-INTERVAL:P3D
CALSCALE:GREGORIAN
BEGIN:VEVENT
DTSTART:20201121T140000Z
DTEND:20201121T160000Z
X-MICROSOFT-CDO-ALLDAYEVENT:FALSE
SUMMARY:Pancake Cook Off 2020
DESCRIPTION:The Annual Central Chamber Pancake Cook-Off kicks off Shop Small Business\n\nCentral Christmas Event!\n\nAt the finish line of the Running of the Elves 5k\, celebrate your win and celebrate central business with the cheeriest cookoff of the year.
X-ALT-DESC;FMTTYPE=text/html:<div background-color:="" class="kvgmc6g5 cxmmr5t8 oygrvhab hcukyx3x c1et5uql" color:="" font-size:="" segoe="" style="overflow-wrap: break-word\; margin: 0px\; font-family: " ui=""><span style="color:#006400\;"><span style="font-family:arial\;"><span style="font-size:16px\;">The Annual Central Chamber Pancake Cook-Off kicks off Shop Small Business<br />\nCentral Christmas Event!</span></span></span></div>\n\n<div background-color:="" class="o9v6fnle cxmmr5t8 oygrvhab hcukyx3x c1et5uql" color:="" font-size:="" segoe="" style="overflow-wrap: break-word\; margin: 0.5em 0px 0px\; font-family: " ui=""><span style="color:#006400\;"><span style="font-family:arial\;"><span style="font-size:16px\;">At the finish line of the Running of the Elves 5k\, celebrate your win and celebrate central business with the cheeriest cookoff of the year.</span></span></span></div>\n<br />\n&nbsp\;
LOCATION:This year we're moving. The pancake cook off will be held outside the high school football stadium.
UID:e.1367.2943
SEQUENCE:3
DTSTAMP:20260424T091644Z
URL:https://business.cityofcentralchamber.com/events/details/pancake-cook-off-2020-2943
END:VEVENT

END:VCALENDAR
