BEGIN:VCALENDAR
VERSION:2.0
PRODID:-//ChamberMaster//Event Calendar 2.0//EN
METHOD:PUBLISH
X-PUBLISHED-TTL:P3D
REFRESH-INTERVAL:P3D
CALSCALE:GREGORIAN
BEGIN:VEVENT
DTSTART;VALUE=DATE:20200429
DTEND;VALUE=DATE:20200430
TRANSP:TRANSPARENT
X-MICROSOFT-CDO-ALLDAYEVENT:TRUE
SUMMARY:Nomination Deadline for Business Awards 2019-2020
DESCRIPTION:Nominate online or print out the form here.\n\n\n\nWe would like to get some input on the nominations for the Business Awards. Nominees must have an "Active Membership" and must have been a member for at least one year. These nominees are those that you\, as a fellow business owner\, feel have done some and/or all of the following during 2019:\n\n	Made an impact on the vitality and economic strength of the City of Central.\n	Evidence of generosity to our community.\n	Evidence of leadership within the community by the business and/or its employees.\n	Evidence of innovative thinking and entrepreneurship. \n\n An Awards Committee will take the nominations and make a determination as to the winners. You can nominate up to 4 businesses. You may turn in only one nomination sheet from your business. Nominations have been extended through April 8th due to COVID-19.\n\n\n\nThanks\, in advance for your participation. \n\n\n\nNominate online or print out the form here.
X-ALT-DESC;FMTTYPE=text/html:<span style="font-size:16px\;"><strong><a href="http://www.cityofcentralchamber.com/form/view/19198">Nominate online</a> or <a href="https://files.constantcontact.com/bb6518e6001/1fe3eda1-86b9-4d67-8603-d10cdae36661.pdf">print out the&nbsp\;form here.</a></strong><br />\n<br />\nWe would like to get some input on the nominations for the Business Awards. Nominees must have an &ldquo\;Active Membership&rdquo\; and must have been a member for at least one year. These nominees are those that you\, as a fellow business owner\, feel have done some and/or all of the following during 2019:</span>\n<ul>\n	<li><span style="font-size:16px\;">Made an impact on the vitality and economic strength of the City of Central.</span></li>\n	<li><span style="font-size:16px\;">Evidence of generosity to our community.</span></li>\n	<li><span style="font-size:16px\;">Evidence of leadership within the community by the business and/or its employees.</span></li>\n	<li><span style="font-size:16px\;">Evidence of innovative thinking and entrepreneurship. </span></li>\n</ul>\n<span style="font-size:16px\;"> An Awards Committee will take the nominations and make a determination as to the winners. You can nominate up to 4 businesses. You may turn in only one nomination sheet from your business<b>. Nominations have been extended through April 8th due to COVID-19.</b><br />\n<br />\nThanks\, in advance for your participation.&nbsp\;<br />\n<br />\n<strong style="font-size: 14px\;"><a href="http://www.cityofcentralchamber.com/form/view/19198">Nominate online</a> or <a href="https://files.constantcontact.com/bb6518e6001/1fe3eda1-86b9-4d67-8603-d10cdae36661.pdf">print out the&nbsp\;form here.</a></strong></span>
LOCATION:Please email us at chamber@cityofcentralchamber.com Or mail your response to Central Chamber of Commerce P.O.Box 78107 Central. La. 70837
UID:e.1367.2950
SEQUENCE:3
DTSTAMP:20260424T203645Z
URL:https://business.cityofcentralchamber.com/events/details/nomination-deadline-for-business-awards-2019-2020-2950
END:VEVENT

END:VCALENDAR
