BEGIN:VCALENDAR
VERSION:2.0
PRODID:-//ChamberMaster//Event Calendar 2.0//EN
METHOD:PUBLISH
X-PUBLISHED-TTL:P3D
REFRESH-INTERVAL:P3D
CALSCALE:GREGORIAN
BEGIN:VEVENT
DTSTART:20230712T163000Z
DTEND:20230712T170000Z
X-MICROSOFT-CDO-ALLDAYEVENT:FALSE
SUMMARY:Newoir's Cajun Creations- Ribbon Cutting
DESCRIPTION:Come join us for a Ribbon Cutting to Celebrate the opening of Newoir's Cajun Creations!
X-ALT-DESC;FMTTYPE=text/html:<span style="color: rgb(62\, 68\, 62)\; font-family: Lato\, Helvetica\, &quot\;sans-serif&quot\;\; font-size: 14px\;">Come join us for a Ribbon Cutting to Celebrate the opening of Newoir&#39\;s Cajun Creations!&nbsp\;</span>
LOCATION:14455 Wax Rd Ste Z\, Central\, LA 70818
UID:e.1367.3131
SEQUENCE:3
DTSTAMP:20260422T061832Z
URL:https://business.cityofcentralchamber.com/events/details/newoir-s-cajun-creations-ribbon-cutting-3131
END:VEVENT

END:VCALENDAR
