BEGIN:VCALENDAR
VERSION:2.0
PRODID:-//ChamberMaster//Event Calendar 2.0//EN
METHOD:PUBLISH
X-PUBLISHED-TTL:P3D
REFRESH-INTERVAL:P3D
CALSCALE:GREGORIAN
BEGIN:VEVENT
DTSTART:20230512T170000Z
DTEND:20230512T180000Z
X-MICROSOFT-CDO-ALLDAYEVENT:FALSE
SUMMARY:My Little Sunshine - Ribbon Cutting
DESCRIPTION:Let's Celebrate The Opening of My Little Sunshine!
X-ALT-DESC;FMTTYPE=text/html:<p>Let&#39\;s Celebrate The Opening of My Little Sunshine!&nbsp\;&nbsp\;</p>\n
LOCATION:18564 Magnolia Bridge Rd Suite 112\, Greenwell Springs\, LA 70739
UID:e.1367.3121
SEQUENCE:3
DTSTAMP:20260422T092315Z
URL:https://business.cityofcentralchamber.com/events/details/my-little-sunshine-ribbon-cutting-3121
END:VEVENT

END:VCALENDAR
