BEGIN:VCALENDAR
VERSION:2.0
PRODID:-//ChamberMaster//Event Calendar 2.0//EN
METHOD:PUBLISH
X-PUBLISHED-TTL:P3D
REFRESH-INTERVAL:P3D
CALSCALE:GREGORIAN
BEGIN:VEVENT
DTSTART:20210506T210000Z
DTEND:20210506T233000Z
X-MICROSOFT-CDO-ALLDAYEVENT:FALSE
SUMMARY:Mother's Day Ladies Bash!
DESCRIPTION:H U G E EVENT\n\n\n\n\nMARK YOUR CALENDARS MAY 6th 4-6:30 pm\n\n\n\nOur Mother's Day BASH is going to be huge this year\n\n\n\nWe have so much in store for you! Bring your mom your stepmom your grandmother your daughter this event is going to be so much fun!\n\n\n\n Here's what The Mother's Day bash will consist of\n\n\n	Sip N shop\n	Botox party with Ph.D. Alicia Hart \n	Local florist -Blushing blooms will be there with premade floral arrangements for your mothers\n	Cookies by The rolling pin amazing delicious\n	Candy cart with all your favorite sweets\n	A Mother's Day photo backdrop for all your pictures with mom\n	Spa surprises\n	SALES SALES SALES & GIVEAWAYS \n\nSee more on Facebook.
X-ALT-DESC;FMTTYPE=text/html:<ul>\n	<li style="font-size: 16px\;">H&bull\;U&bull\;G&bull\;E EVENT</li>\n</ul>\n\n<div style="font-size: 16px\;"><br />\nMARK YOUR CALENDARS MAY 6th 4-6:30 pm<br />\n<br />\nOur Mother&rsquo\;s Day BASH is going to be huge this year<br />\n<br />\nWe have so much in store for you! Bring your mom your stepmom your grandmother your daughter this event is going to be so much fun!<br />\n<br />\n<strong>&nbsp\;Here&rsquo\;s what The Mother&rsquo\;s Day bash will consist of</strong></div>\n\n<ul>\n	<li style="font-size: 16px\;">Sip N shop</li>\n	<li style="font-size: 16px\;">Botox party with Ph.D. Alicia Hart&nbsp\;</li>\n	<li style="font-size: 16px\;">Local florist -Blushing blooms will be there with premade floral arrangements for your mothers</li>\n	<li style="font-size: 16px\;">Cookies by The rolling pin amazing delicious</li>\n	<li style="font-size: 16px\;"><span style="font-size:16px">Candy cart with all your favorite sweets</span></li>\n	<li style="font-size: 16px\;"><span style="font-size:16px">A Mother&rsquo\;s Day photo backdrop for all your pictures with mom</span></li>\n	<li style="font-size: 16px\;"><span style="font-size:16px">Spa surprises</span></li>\n	<li><span style="font-size:16px">SALES SALES SALES &amp\; GIVEAWAYS&nbsp\;</span></li>\n</ul>\n<a href="https://www.facebook.com/jlaneboutiques"><span style="font-size:16px">See more on Facebook.</span></a>
LOCATION:J Lane Boutique 14350 Wax Rd. Suite 108 Central City\, LA\, United States\, 70818
UID:e.1367.2987
SEQUENCE:3
DTSTAMP:20260423T235038Z
URL:https://business.cityofcentralchamber.com/events/details/mother-s-day-ladies-bash-2987
END:VEVENT

END:VCALENDAR
