BEGIN:VCALENDAR
VERSION:2.0
PRODID:-//ChamberMaster//Event Calendar 2.0//EN
METHOD:PUBLISH
X-PUBLISHED-TTL:P3D
REFRESH-INTERVAL:P3D
CALSCALE:GREGORIAN
BEGIN:VEVENT
DTSTART:20250611T163000Z
DTEND:20250611T180000Z
X-MICROSOFT-CDO-ALLDAYEVENT:FALSE
SUMMARY:Monthly Investors' Luncheon - The City of Central Chamber of Commerce & The City of Central 20TH Birthday Party
DESCRIPTION:You're Invited to a Special Celebration!  \n\n\n\nWe're celebrating 20 years of The City of Central Chamber of Commerce AND The City of Central's 20th Birthday!   \n\nStop by for a delicious lunch\, great company\, and the chance to celebrate two decades of growth\, connection\, and community.   \n\n\n\nWhether you're a longtime member or new to the area\, we'd love to see you there!
X-ALT-DESC;FMTTYPE=text/html:<p data-end="367" data-start="125"><span style="font-size:18px\;">&#127881\; <strong data-end="172" data-start="128">You&#39\;re Invited to a Special Celebration!</strong> &#127881\;</span><br />\n<br data-end="178" data-start="175" />\n<span style="font-size:18px\;">We&#39\;re celebrating <strong data-end="315" data-start="280">20 years of The City of Central Chamber of Commerce</strong> AND <strong data-end="359" data-start="320">The City of Central&#39\;s 20th Birthday</strong>! &#129395\;&#127874\;</span></p>\n\n<p data-end="578" data-start="369"><span style="font-size:18px\;">Stop by for a delicious lunch\, great company\, and the chance to celebrate two decades of growth\, connection\, and community. &#128188\;&#127880\;<br />\n<br />\nWhether you&#39\;re a longtime member or new to the area\, we&rsquo\;d love to see you there!</span></p>\n
LOCATION:Kristenwood Catering & Reception 14025 Greenwell Springs Rd
UID:e.1367.3230
SEQUENCE:3
DTSTAMP:20260420T130725Z
URL:https://business.cityofcentralchamber.com/events/details/monthly-investors-luncheon-the-city-of-central-chamber-of-commerce-the-city-of-central-20th-birthday-party-3230
END:VEVENT

END:VCALENDAR
