BEGIN:VCALENDAR
VERSION:2.0
PRODID:-//ChamberMaster//Event Calendar 2.0//EN
METHOD:PUBLISH
X-PUBLISHED-TTL:P3D
REFRESH-INTERVAL:P3D
CALSCALE:GREGORIAN
BEGIN:VEVENT
DTSTART:20230913T163000Z
DTEND:20230913T180000Z
X-MICROSOFT-CDO-ALLDAYEVENT:FALSE
SUMMARY:Members' Monthly Luncheon
DESCRIPTION:Topic: Estate Planning\n\nGuest Speaker: Gregory Callihan\n\n\n\nWhat is Estate Planning and why do I need it? \n\nNo one wants to talk about death or estate planning\, but without it\, your estate may not be distributed as you would like.  By making an estate plan you can be assured things go exactly like you plan. \n\n \n\nBio\n\nGregory Callihan\, lawyer\, was born in Baton Rouge\, Louisiana\, in January of 1967. He graduated from Southeastern Louisiana University with a Bachelor of Science degree in Zoology/Biology and received his Juris Doctorate degree from the Paul M. Hebert Law Center at Louisiana State University\, where he was selected for the Moot Court Board\, Robert Lee Tullis Semifinalist\, Chancellor List\, and Flory Trial finalist.\n\nFollowing graduation\, he served as law clerk to the Honorable J. Michael McDonald\, currently on the Louisiana Court of Appeals First Circuit.\n\nGreg's primary areas of practice include:\n\n	Personal Injury Litigation\n	Business Law\n	Real Estate\n	Successions and Wills\n	Construction Litigation\n	General Liability Claims\n\nHis clients have included individuals\, insurance companies\, and self-insured employers whom he has had the opportunity to represent in claims pending in district and workers' compensation courts throughout the state of Louisiana.\n\nAttorney Gregory Callihan is admitted to practice before all Louisiana state courts\, the United States District Courts for the Eastern\, Middle\, and Western Districts of Louisiana and the United States Fifth Circuit Court of Appeal. He is a member of the Louisiana State Bar Association\, Baton Rouge Bar Association\, Louisiana Association of Self-Insured Employers and the Defense Research Institute where he serves on the trucking law committee.\n\nMr. Callihan is also the real estate closing attorney at Central Title & Closing.\n\n\n\n\n\nRSVP by clicking "Register" on the right.\n\n\n\nAll attendees should be pre-registered and pre-paid. Thank you for your cooperation!
X-ALT-DESC;FMTTYPE=text/html:<span style="box-sizing: border-box\; color: rgb(0\, 0\, 0)\; font-family: arial\; font-size: 16px\;">Topic: Estate Planning<br />\nGuest Speaker:&nbsp\;</span><span style="color:#000000\;"><span style="font-family:arial\;"><span style="font-size:16px\;">Gregory Callihan</span></span></span><br />\n<br />\n<strong>What is Estate Planning and why do I need it?&nbsp\;</strong><br />\nNo one wants to talk about death or estate planning\, but without it\, your estate may not be distributed as you would like.&nbsp\; By making an estate plan you can be assured things go exactly like you plan.&nbsp\;<br />\n&nbsp\;<br />\n<span style="font-family:helvetica\,sans-serif\;"><span style="font-size:10.5pt\;">Bio</span></span><br />\n<span style="font-family:helvetica\,sans-serif\;"><span style="font-size:10.5pt\;">Gregory Callihan\, lawyer\, was born in Baton Rouge\, Louisiana\, in January of 1967. He graduated from Southeastern Louisiana University with a Bachelor of Science degree in Zoology/Biology and received his Juris Doctorate degree from the Paul M. Hebert Law Center at Louisiana State University\, where he was selected for the Moot Court Board\, Robert Lee Tullis Semifinalist\, Chancellor List\, and Flory Trial finalist.</span></span><br />\n<span style="font-family:helvetica\,sans-serif\;"><span style="font-size:10.5pt\;">Following graduation\, he served as law clerk to the Honorable J. Michael McDonald\, currently on the Louisiana Court of Appeals First Circuit.</span></span><br />\n<span style="font-family:helvetica\,sans-serif\;"><span style="font-size:10.5pt\;">Greg&rsquo\;s primary areas of practice include:</span></span>\n<ul>\n	<li><span style="font-family:helvetica\,sans-serif\;"><span style="font-size:10.5pt\;">Personal Injury Litigation</span></span></li>\n	<li><span style="font-family:helvetica\,sans-serif\;"><span style="font-size:10.5pt\;">Business Law</span></span></li>\n	<li><span style="font-family:helvetica\,sans-serif\;"><span style="font-size:10.5pt\;">Real Estate</span></span></li>\n	<li><span style="font-family:helvetica\,sans-serif\;"><span style="font-size:10.5pt\;">Successions and Wills</span></span></li>\n	<li><span style="font-family:helvetica\,sans-serif\;"><span style="font-size:10.5pt\;">Construction Litigation</span></span></li>\n	<li><span style="font-family:helvetica\,sans-serif\;"><span style="font-size:10.5pt\;">General Liability Claims</span></span></li>\n</ul>\n<span style="font-family:helvetica\,sans-serif\;"><span style="font-size:10.5pt\;">His clients have included individuals\, insurance companies\, and self-insured employers whom he has had the opportunity to represent in claims pending in district and workers&rsquo\; compensation courts throughout the state of Louisiana.</span></span><br />\n<span style="font-family:helvetica\,sans-serif\;"><span style="font-size:10.5pt\;">Attorney Gregory Callihan is admitted to practice before all Louisiana state courts\, the United States District Courts for the Eastern\, Middle\, and Western Districts of Louisiana and the United States Fifth Circuit Court of Appeal. He is a member of the Louisiana State Bar Association\, Baton Rouge Bar Association\, Louisiana Association of Self-Insured Employers and the Defense Research Institute where he serves on the trucking law committee.</span></span><br />\n<span style="font-family:helvetica\,sans-serif\;"><span style="font-size:10.5pt\;">Mr. Callihan is also the real estate closing attorney at&nbsp\;<a href="http://www.centraltitleandclosing.com/" target="_blank"><span style="color:#483F49\;">Central Title &amp\; Closing</span></a>.</span></span><br />\n<br />\n<br />\n<span style="box-sizing: border-box\; color: rgb(0\, 0\, 0)\; font-family: arial\; font-size: 16px\; white-space: pre-wrap\;">RSVP by clicking &quot\;Register&quot\; on the right.</span><br style="box-sizing: border-box\; color: rgb(0\, 0\, 0)\; font-family: arial\; font-size: 16px\; white-space: pre-wrap\;" />\n<br style="box-sizing: border-box\; color: rgb(0\, 0\, 0)\; font-family: arial\; font-size: 16px\; white-space: pre-wrap\;" />\n<span style="box-sizing: border-box\; color: rgb(0\, 0\, 0)\; font-family: arial\; font-size: 16px\; white-space: pre-wrap\;">All attendees should be <span style="box-sizing: border-box\; font-weight: bolder\;">pre-registered and pre-paid. </span>Thank you for your cooperation!</span>
LOCATION:Kristenwood Reception 14025 Greenwell Springs Rd
UID:e.1367.1711
SEQUENCE:3
DTSTAMP:20260422T044137Z
URL:https://business.cityofcentralchamber.com/events/details/monthly-investors-luncheon-09-13-2023-1711
END:VEVENT

END:VCALENDAR
