BEGIN:VCALENDAR
VERSION:2.0
PRODID:-//ChamberMaster//Event Calendar 2.0//EN
METHOD:PUBLISH
X-PUBLISHED-TTL:P3D
REFRESH-INTERVAL:P3D
CALSCALE:GREGORIAN
BEGIN:VEVENT
DTSTART:20230809T163000Z
DTEND:20230809T180000Z
X-MICROSOFT-CDO-ALLDAYEVENT:FALSE
SUMMARY:Members' Monthly Luncheon
DESCRIPTION:Join us for the 2023-2024 Update from our Central Area Schools.\n\nAll attendees should be pre-registered and pre-paid. Thank you for your cooperation!
X-ALT-DESC;FMTTYPE=text/html:<span style="box-sizing: border-box\; color: rgb(0\, 0\, 0)\; font-family: arial\; font-size: 16px\; white-space: pre-wrap\;">Join us for the 2023-2024 Update from our Central Area Schools.<br />\nAll attendees should be <span style="box-sizing: border-box\; font-weight: bolder\;">pre-registered and pre-paid. </span>Thank you for your cooperation!</span>
LOCATION:Central Community School System Administrative Building 11576 Sullivan Road Baton Rouge\, LA 70818
UID:e.1367.1710
SEQUENCE:3
DTSTAMP:20260422T044137Z
URL:https://business.cityofcentralchamber.com/events/details/monthly-investors-luncheon-08-09-2023-1710
END:VEVENT

END:VCALENDAR
