BEGIN:VCALENDAR
VERSION:2.0
PRODID:-//ChamberMaster//Event Calendar 2.0//EN
METHOD:PUBLISH
X-PUBLISHED-TTL:P3D
REFRESH-INTERVAL:P3D
CALSCALE:GREGORIAN
BEGIN:VEVENT
DTSTART:20190612T163000Z
DTEND:20190612T180000Z
X-MICROSOFT-CDO-ALLDAYEVENT:FALSE
SUMMARY:Members' Monthly Luncheon
DESCRIPTION:2019 Scholarships\n\nGuest Speaker: Vicki Ellis\n\nFounder of Heritage Ranch
X-ALT-DESC;FMTTYPE=text/html:<span style="font-size:16px\;"><span style="font-family:times new roman\;"><span style="color:#0000CD\;"><strong>2019 Scholarships<br />\nGuest Speaker: Vicki Ellis<br />\nFounder of Heritage Ranch</strong></span></span></span>
LOCATION:Kristenwood 14025 Greenwell Springs Rd
UID:e.1367.1660
SEQUENCE:3
DTSTAMP:20260425T112239Z
URL:https://business.cityofcentralchamber.com/events/details/monthly-investors-luncheon-06-12-2019-1660
END:VEVENT

END:VCALENDAR
