BEGIN:VCALENDAR
VERSION:2.0
PRODID:-//ChamberMaster//Event Calendar 2.0//EN
METHOD:PUBLISH
X-PUBLISHED-TTL:P3D
REFRESH-INTERVAL:P3D
CALSCALE:GREGORIAN
BEGIN:VEVENT
DTSTART:20220511T163000Z
DTEND:20220511T180000Z
X-MICROSOFT-CDO-ALLDAYEVENT:FALSE
SUMMARY:Members' Monthly Luncheon
DESCRIPTION:Join us at BRCC Central Campus for a special Member Lunch on May 11.   RSVP by clicking "Register" on the right and we will see you at BRCC Central Campus on May 11 at 11:30 am.\n\n\n\nAll attendees should be pre-registered and pre-paid. Thank you for your cooperation!
X-ALT-DESC;FMTTYPE=text/html:<span style="box-sizing: border-box\; color: rgb(0\, 0\, 0)\; font-family: arial\; font-size: 16px\;">Join us at BRCC Central Campus for a special Member Lunch on May 11.&nbsp\; &nbsp\;</span><span style="box-sizing: border-box\; color: rgb(0\, 0\, 0)\; font-family: arial\; font-size: 16px\; white-space: pre-wrap\;">RSVP by clicking &quot\;Register&quot\; on the right and we will see you at BRCC Central Campus on May 11 at 11:30 am.</span><br style="box-sizing: border-box\; color: rgb(0\, 0\, 0)\; font-family: arial\; font-size: 16px\; white-space: pre-wrap\;" />\n<br style="box-sizing: border-box\; color: rgb(0\, 0\, 0)\; font-family: arial\; font-size: 16px\; white-space: pre-wrap\;" />\n<span style="box-sizing: border-box\; color: rgb(0\, 0\, 0)\; font-family: arial\; font-size: 16px\; white-space: pre-wrap\;">All attendees should be <span style="box-sizing: border-box\; font-weight: bolder\;">pre-registered and pre-paid. </span>Thank you for your cooperation!</span>
LOCATION:BRCC Central Campus 10700 Hooper Road Central\, LA 70818
UID:e.1367.1695
SEQUENCE:3
DTSTAMP:20260423T042525Z
URL:https://business.cityofcentralchamber.com/events/details/monthly-investors-luncheon-05-11-2022-1695
END:VEVENT

END:VCALENDAR
