BEGIN:VCALENDAR
VERSION:2.0
PRODID:-//ChamberMaster//Event Calendar 2.0//EN
METHOD:PUBLISH
X-PUBLISHED-TTL:P3D
REFRESH-INTERVAL:P3D
CALSCALE:GREGORIAN
BEGIN:VEVENT
DTSTART:20230517T163000Z
DTEND:20230517T180000Z
X-MICROSOFT-CDO-ALLDAYEVENT:FALSE
SUMMARY:Members' Monthly Luncheon
DESCRIPTION:Join us for a presentation from Jordan Basham with Wheretogeaux225.\n\n\n\nTopic: The Business of Social Media: How Companies Use Social Platforms to Connect with Customers and Increase Sales\n\n \n\nJordan is a native and graduate of Central\, and now runs a popular Baton Rouge social media account\, WheretoGeaux225\, with over 20\,000 followers. She understands the influence of social media and how to use it to engage with your customers and increase your sales and will be teaching you how to do that at our May luncheon! \n\n\n\n\n\nAll attendees should be pre-registered and pre-paid. Thank you for your cooperation!
X-ALT-DESC;FMTTYPE=text/html:<span style="box-sizing: border-box\; color: rgb(0\, 0\, 0)\; font-family: arial\; font-size: 16px\; white-space: pre-wrap\;">Join us for a presentation from Jordan Basham with </span><span style="font-family:arial\;"><span style="color: rgba(0\, 0\, 0\, 0.9)\; font-size: 16px\;">Wheretogeaux225.</span></span><br />\n<br />\nTopic: The Business of Social Media: How Companies Use Social Platforms to Connect with Customers and Increase Sales<br />\n&nbsp\;<br />\nJordan is a native and graduate of Central\, and now runs a popular Baton Rouge social media account\, WheretoGeaux225\, with over 20\,000 followers. She understands the influence of social media and how to use it to engage with your customers and increase your sales and will be teaching you how to do that at our May luncheon!&nbsp\;<br />\n<br />\n<br />\n<span style="box-sizing: border-box\; color: rgb(0\, 0\, 0)\; font-family: arial\; font-size: 16px\; white-space: pre-wrap\;">All attendees should be <span style="box-sizing: border-box\; font-weight: bolder\;">pre-registered and pre-paid. </span>Thank you for your cooperation!</span>
LOCATION:BREC Community Jackson Park 12250 Sullivan Road Central\, LA 70818
UID:e.1367.1707
SEQUENCE:3
DTSTAMP:20260422T092318Z
URL:https://business.cityofcentralchamber.com/events/details/monthly-investors-luncheon-05-10-2023-1707
END:VEVENT

END:VCALENDAR
