BEGIN:VCALENDAR
VERSION:2.0
PRODID:-//ChamberMaster//Event Calendar 2.0//EN
METHOD:PUBLISH
X-PUBLISHED-TTL:P3D
REFRESH-INTERVAL:P3D
CALSCALE:GREGORIAN
BEGIN:VEVENT
DTSTART:20230412T133000Z
DTEND:20230412T143000Z
X-MICROSOFT-CDO-ALLDAYEVENT:FALSE
SUMMARY:Members' Monthly Luncheon
DESCRIPTION:Join us for as we meet for breakfast at The Reserve at Shoe Creek.\n\n\n\nSeating is limited to 35 guest.\n\n\n\nAll attendees should be pre-registered and pre-paid. Thank you for your cooperation!
X-ALT-DESC;FMTTYPE=text/html:<span style="box-sizing: border-box\; color: rgb(0\, 0\, 0)\; font-family: arial\; font-size: 16px\;">Join us for as we meet for breakfast at The Reserve at Shoe Creek.<br />\n<br />\nSeating is limited to 35 guest.</span><br style="box-sizing: border-box\; color: rgb(0\, 0\, 0)\; font-family: arial\; font-size: 16px\; white-space: pre-wrap\;" />\n<br style="box-sizing: border-box\; color: rgb(0\, 0\, 0)\; font-family: arial\; font-size: 16px\; white-space: pre-wrap\;" />\n<span style="box-sizing: border-box\; color: rgb(0\, 0\, 0)\; font-family: arial\; font-size: 16px\; white-space: pre-wrap\;">All attendees should be <span style="box-sizing: border-box\; font-weight: bolder\;">pre-registered and pre-paid. </span>Thank you for your cooperation!</span>
LOCATION:The Reserve at Shoe Creek - Lobby 14150 Grand Settlement Blvd\, Central\, LA 70818
UID:e.1367.1706
SEQUENCE:3
DTSTAMP:20260422T105031Z
URL:https://business.cityofcentralchamber.com/events/details/monthly-investors-luncheon-04-12-2023-1706
END:VEVENT

END:VCALENDAR
