BEGIN:VCALENDAR
VERSION:2.0
PRODID:-//ChamberMaster//Event Calendar 2.0//EN
METHOD:PUBLISH
X-PUBLISHED-TTL:P3D
REFRESH-INTERVAL:P3D
CALSCALE:GREGORIAN
BEGIN:VEVENT
DTSTART:20200408T163000Z
DTEND:20200408T180000Z
X-MICROSOFT-CDO-ALLDAYEVENT:FALSE
SUMMARY:Members' Monthly Luncheon
DESCRIPTION:Topic  - Awards & Scholarships
X-ALT-DESC;FMTTYPE=text/html:<span style="font-size:16px\;"><span style="font-family:times new roman\;"><span style="color:#0000CD\;"><strong>Topic&nbsp\; - Awards &amp\; Scholarships</strong></span></span></span>
LOCATION:14025 Greenwell Springs Rd
UID:e.1367.1670
SEQUENCE:3
DTSTAMP:20260424T203645Z
URL:https://business.cityofcentralchamber.com/events/details/monthly-investors-luncheon-04-08-2020-1670
END:VEVENT

END:VCALENDAR
