BEGIN:VCALENDAR
VERSION:2.0
PRODID:-//ChamberMaster//Event Calendar 2.0//EN
METHOD:PUBLISH
X-PUBLISHED-TTL:P3D
REFRESH-INTERVAL:P3D
CALSCALE:GREGORIAN
BEGIN:VEVENT
DTSTART:20190213T173000Z
DTEND:20190213T190000Z
X-MICROSOFT-CDO-ALLDAYEVENT:FALSE
SUMMARY:Members' Monthly Luncheon
DESCRIPTION:Topic- Small Business Educational Training\n\nFeaturing Carl Herrick of Sandler Training\n\nLed by President\, Carl Herrick\, Sandler Training Louisiana has been helping businesses throughout the state since 2009. They believe sales should be practiced by highly trained men and women who value integrity\, long-term relationships\, and their reputations.
X-ALT-DESC;FMTTYPE=text/html:<span style="font-size:20px\;"><span style="font-family:arial\;"><strong><span style="color:#000080\;">Topic-&nbsp\;Small Business Educational Training</span></strong><br />\n<em><strong><span style="color:#DAA520\;">Featuring Carl Herrick of Sandler Training</span></strong></em></span></span><br />\n<span style="font-family:arial\;"><span style="font-size:14px\;"><span style="text-align: center\; background-color: rgb(255\, 255\, 255)\;">Led by President\, Carl Herrick\, Sandler Training Louisiana&nbsp\;has been helping businesses throughout the state&nbsp\;since 2009. They believe sales should be practiced by highly trained men and women who value integrity\, long-term relationships\, and their reputations.</span></span></span>
LOCATION:Kristenwood 14025 Greenwell Springs Road
UID:e.1367.1656
SEQUENCE:3
DTSTAMP:20260425T173838Z
URL:https://business.cityofcentralchamber.com/events/details/monthly-investors-luncheon-02-13-2019-1656
END:VEVENT

END:VCALENDAR
