BEGIN:VCALENDAR
VERSION:2.0
PRODID:-//ChamberMaster//Event Calendar 2.0//EN
METHOD:PUBLISH
X-PUBLISHED-TTL:P3D
REFRESH-INTERVAL:P3D
CALSCALE:GREGORIAN
BEGIN:VEVENT
DTSTART:20200212T173000Z
DTEND:20200212T190000Z
X-MICROSOFT-CDO-ALLDAYEVENT:FALSE
SUMMARY:Members' Monthly Luncheon
DESCRIPTION:Gotham Archery\n\nNetworking\, Lunch & Open House
X-ALT-DESC;FMTTYPE=text/html:<strong style="color: rgb(0\, 100\, 0)\; font-family: &quot\;times new roman&quot\;\; font-size: 16px\;">Gotham Archery<br />\nNetworking\, Lunch &amp\; Open House</strong>
LOCATION:14455 Greenwell Springs Road Suite F
UID:e.1367.1668
SEQUENCE:3
DTSTAMP:20260425T012055Z
URL:https://business.cityofcentralchamber.com/events/details/monthly-investors-luncheon-02-12-2020-1668
END:VEVENT

END:VCALENDAR
