BEGIN:VCALENDAR
VERSION:2.0
PRODID:-//ChamberMaster//Event Calendar 2.0//EN
METHOD:PUBLISH
X-PUBLISHED-TTL:P3D
REFRESH-INTERVAL:P3D
CALSCALE:GREGORIAN
BEGIN:VEVENT
DTSTART:20210210T173000Z
DTEND:20210210T190000Z
X-MICROSOFT-CDO-ALLDAYEVENT:FALSE
SUMMARY:Members' Monthly Luncheon
DESCRIPTION:Due to social distance requirements\, all attendees must be pre-registered and pre-paid. Thank you for your cooperation!\n\n\n\nYou don't want to miss this month's meeting. BREC Superintendent\, Cory Wilson will be visiting to share with us the role of BREC in a post-covid world.\n\n\n\nJoin us! RSVP by clicking "Register" and we will see you at Kristenwood on Feb. 10 at 11:30 am.
X-ALT-DESC;FMTTYPE=text/html:<span style="color: rgb(0\, 0\, 0)\; font-family: arial\; font-size: 16px\; white-space: pre-wrap\;">Due to social distance requirements\, all attendees must be </span><span style="color: rgb(0\, 0\, 0)\; font-family: arial\; font-size: 16px\; white-space: pre-wrap\; box-sizing: border-box\; font-weight: bolder\;">pre-registered and pre-paid. </span><span style="color: rgb(0\, 0\, 0)\; font-family: arial\; font-size: 16px\; white-space: pre-wrap\;">Thank you for your cooperation!</span><br />\n<br />\n<span style="box-sizing: border-box\; font-family: Calibri\, Verdana\, Geneva\, sans-serif\; font-size: 16px\; color: rgb(0\, 0\, 0)\;"><span style="box-sizing: border-box\; font-family: arial\;"><span style="box-sizing: border-box\;">You don&#39\;t want to miss this month&#39\;s meeting. BREC Superintendent\, Cory Wilson will be visiting to share with us the role of BREC in a post-covid world.<br />\n<br />\nJoin us!&nbsp\;</span><span style="box-sizing: border-box\; white-space: pre-wrap\;">RSVP by clicking &quot\;Register&quot\; and we will see you at Kristenwood on Feb. 10 at 11:30 am.</span></span></span>
LOCATION:Kristenwood Reception 14025 Greenwell Springs Rd.
UID:e.1367.1680
SEQUENCE:3
DTSTAMP:20260424T043436Z
URL:https://business.cityofcentralchamber.com/events/details/monthly-investors-luncheon-02-10-2021-1680
END:VEVENT

END:VCALENDAR
