BEGIN:VCALENDAR
VERSION:2.0
PRODID:-//ChamberMaster//Event Calendar 2.0//EN
METHOD:PUBLISH
X-PUBLISHED-TTL:P3D
REFRESH-INTERVAL:P3D
CALSCALE:GREGORIAN
BEGIN:VEVENT
DTSTART:20230118T173000Z
DTEND:20230118T190000Z
X-MICROSOFT-CDO-ALLDAYEVENT:FALSE
SUMMARY:Members' Monthly Luncheon
DESCRIPTION:New Mayor Wade Evans will talk about his vison for our city on January 18th. \n\nRSVP by clicking "Register" on the right and we will see you at Kristenwood on January 18th at 11:30 am.\n\n\n\nAll attendees should be pre-registered and pre-paid. Thank you for your cooperation!
X-ALT-DESC;FMTTYPE=text/html:<p><span style="box-sizing: border-box\; color: rgb(0\, 0\, 0)\; font-family: arial\; font-size: 16px\;">New Mayor Wade Evans will talk about his vison for our city on January 18th.&nbsp\;</span></p>\n\n<p><span style="box-sizing: border-box\; color: rgb(0\, 0\, 0)\; font-family: arial\; font-size: 16px\; white-space: pre-wrap\;">RSVP by clicking &quot\;Register&quot\; on the right and we will see you at Kristenwood on January 18th at 11:30 am.</span><br style="box-sizing: border-box\; color: rgb(0\, 0\, 0)\; font-family: arial\; font-size: 16px\; white-space: pre-wrap\;" />\n<br style="box-sizing: border-box\; color: rgb(0\, 0\, 0)\; font-family: arial\; font-size: 16px\; white-space: pre-wrap\;" />\n<span style="box-sizing: border-box\; color: rgb(0\, 0\, 0)\; font-family: arial\; font-size: 16px\; white-space: pre-wrap\;">All attendees should be <span style="box-sizing: border-box\; font-weight: bolder\;">pre-registered and pre-paid. </span>Thank you for your cooperation!</span></p>\n
LOCATION:Kristenwood Reception 14025 Greenwell Springs Rd
UID:e.1367.1703
SEQUENCE:3
DTSTAMP:20260422T160328Z
URL:https://business.cityofcentralchamber.com/events/details/monthly-investors-luncheon-01-11-2023-1703
END:VEVENT

END:VCALENDAR
