BEGIN:VCALENDAR
VERSION:2.0
PRODID:-//ChamberMaster//Event Calendar 2.0//EN
METHOD:PUBLISH
X-PUBLISHED-TTL:P3D
REFRESH-INTERVAL:P3D
CALSCALE:GREGORIAN
BEGIN:VEVENT
DTSTART:20200108T173000Z
DTEND:20200108T190000Z
X-MICROSOFT-CDO-ALLDAYEVENT:FALSE
SUMMARY:Members' Monthly Luncheon
DESCRIPTION:Topic - State of the City with Mayor Barrow.
X-ALT-DESC;FMTTYPE=text/html:<span style="color:#990000\;"><span style="font-family:arial\;"><span style="font-size:16px\;"><strong>Topic - State of the City with Mayor Barrow.</strong></span></span></span>
LOCATION:Kristenwood - 14025 Greenwell Springs Road
UID:e.1367.1667
SEQUENCE:3
DTSTAMP:20260425T011957Z
URL:https://business.cityofcentralchamber.com/events/details/monthly-investors-luncheon-01-08-2020-1667
END:VEVENT

END:VCALENDAR
