BEGIN:VCALENDAR
VERSION:2.0
PRODID:-//ChamberMaster//Event Calendar 2.0//EN
METHOD:PUBLISH
X-PUBLISHED-TTL:P3D
REFRESH-INTERVAL:P3D
CALSCALE:GREGORIAN
BEGIN:VEVENT
DTSTART:20210414T163000Z
DTEND:20210414T180000Z
X-MICROSOFT-CDO-ALLDAYEVENT:FALSE
SUMMARY:Mix 'n Mingle at Body Sculpt Barre!
DESCRIPTION:Join us at Body Sculpt Barre to make valuable connections with other business leaders in the Central area. \n\n\n\nPlus\, don't miss a professional development presentation that you can leave and implement to propel your career forward. \n\n\n\nSpace is limited so please pre-register & pre-pay.
X-ALT-DESC;FMTTYPE=text/html:<span style="font-family:arial\;"><span style="font-size:16px\;"><strong>Join us at Body Sculpt Barre to make valuable connections with other business leaders in the Central area.&nbsp\;<br />\n<br />\nPlus\, don&#39\;t miss a professional development presentation that you can leave and implement to propel your career forward.&nbsp\;<br />\n<br />\nSpace is limited so please pre-register &amp\; pre-pay.&nbsp\;</strong></span></span>
LOCATION:Body Sculpt Barre 14340 Wax Rd. Suite 201 Central\, LA 70818
UID:e.1367.1682
SEQUENCE:3
DTSTAMP:20260424T012344Z
URL:https://business.cityofcentralchamber.com/events/details/mix-n-mingle-at-body-sculpt-barre-1682
END:VEVENT

END:VCALENDAR
