BEGIN:VCALENDAR
VERSION:2.0
PRODID:-//ChamberMaster//Event Calendar 2.0//EN
METHOD:PUBLISH
X-PUBLISHED-TTL:P3D
REFRESH-INTERVAL:P3D
CALSCALE:GREGORIAN
BEGIN:VEVENT
DTSTART:20211013T163000Z
DTEND:20211013T180000Z
X-MICROSOFT-CDO-ALLDAYEVENT:FALSE
SUMMARY:Members' Monthly Luncheon w. Lt. Governor Billy Nungesser
DESCRIPTION:Join us for a member meeting and elections for the Central Chamber Board of Directors. We will also be joined by guest speaker\, Lt. Governor Billy Nungesser.\n\n \nWe will be collecting supplies for Grand Isle Hurricane Ida recovery. See the list below if you would like to donate.\n\n\n\nNeeded items: \n\n \n\n\n	DampRi\n	Clorox\, mold and mildew cleaner\n	Garden Sprayer\n	Baby powder\n	Boudreaux's butt past\n	Blanket\n	Women's sock\n	Gallon jugs of water\n	Individually wrapped sweets for 140 linemen\n	If you prefer to donate money for the purchase of supplies you can send donations to Melissa at @melissa-guilbeau-2 on Venmo.\n\n\n\n\nThe course of the Central Chamber is set by a Board of Directors made up of 10 volunteers. These volunteers help define the mission of the organization "to promote and protect a pro-business environment" and help create a strategic plan including programs & events that will help the Chamber accomplish that goal.\n\n \n\nIt is time to elect members to that board. Currently\, there are four open seats. The vote will be held at the October Member Meeting.
X-ALT-DESC;FMTTYPE=text/html:<span style="font-size:16px\;"><span style="font-family: arial\;">Join us for a member meeting and elections for the Central Chamber Board of Directors. We will also be joined by guest speaker\, Lt. Governor Billy Nungesser.</span></span><br />\n&nbsp\;\n<div century="" font-size:="" style="color: rgb(126\, 126\, 126)\;" white-space:=""><span style="font-size:16px\;"><span style="color: black\;">We will be collecting supplies for Grand Isle Hurricane Ida recovery. See the list below if you would like to donate.<br />\n<br />\n<strong>Needed items:</strong>&nbsp\;</span></span><br />\n&nbsp\;</div>\n\n<ul>\n	<li century="" font-size:="" style="color: rgb(126\, 126\, 126)\;" white-space:=""><span style="font-size:16px\;"><span style="color: rgb(0\, 0\, 0)\;">DampRi</span></span></li>\n	<li century="" font-size:="" style="color: rgb(126\, 126\, 126)\;" white-space:=""><span style="font-size:16px\;"><span style="color: rgb(0\, 0\, 0)\;">Clorox\, mold and mildew cleaner</span></span></li>\n	<li century="" font-size:="" style="color: rgb(126\, 126\, 126)\;" white-space:=""><span style="font-size:16px\;"><span style="color: rgb(0\, 0\, 0)\;">Garden Sprayer</span></span></li>\n	<li century="" font-size:="" style="color: rgb(126\, 126\, 126)\;" white-space:=""><span style="font-size:16px\;"><span style="color: rgb(0\, 0\, 0)\;">Baby powder</span></span></li>\n	<li century="" font-size:="" style="color: rgb(126\, 126\, 126)\;" white-space:=""><span style="font-size:16px\;"><span style="color: rgb(0\, 0\, 0)\;">Boudreaux&rsquo\;s butt past</span></span></li>\n	<li century="" font-size:="" style="color: rgb(126\, 126\, 126)\;" white-space:=""><span style="font-size:16px\;"><span style="color: rgb(0\, 0\, 0)\;">Blanket</span></span></li>\n	<li century="" font-size:="" style="color: rgb(126\, 126\, 126)\;" white-space:=""><span style="font-size:16px\;"><span style="color: rgb(0\, 0\, 0)\;">Women&rsquo\;s sock</span></span></li>\n	<li century="" font-size:="" style="color: rgb(126\, 126\, 126)\;" white-space:=""><span style="font-size:16px\;"><span style="color: rgb(0\, 0\, 0)\;">Gallon jugs of water</span></span></li>\n	<li century="" font-size:="" style="color: rgb(126\, 126\, 126)\;" white-space:=""><span style="font-size:16px\;"><span style="color: rgb(0\, 0\, 0)\;">Individually wrapped sweets for 140 linemen</span></span></li>\n	<li century="" font-size:="" style="color: rgb(126\, 126\, 126)\;" white-space:=""><span style="font-size:16px\;"><span style="color: rgb(0\, 0\, 0)\;">If you prefer to donate money for the purchase of supplies you can send donations to Melissa at @melissa-guilbeau-2 on Venmo</span><span style="color: black\;">.</span></span></li>\n</ul>\n\n<div century="" font-size:="" style="color: rgb(126\, 126\, 126)\;" white-space:=""><br />\n<span style="font-size:16px\;"><span style="color: black\;">The&nbsp\;</span><span style="color: black\; font-weight: bold\;">course of the Central Chamber is set by a Board of Directors</span><span style="color: black\;">&nbsp\;made up of 10 volunteers.&nbsp\;These volunteers help define the mission of the organization&nbsp\;</span><span style="color: black\; font-weight: bold\;">&quot\;to promote and protect a pro-business environment&quot\;</span><span style="color: black\;">&nbsp\;and help create a strategic plan including programs &amp\; events that will help the Chamber accomplish that goal.</span></span></div>\n\n<div century="" font-size:="" style="color: rgb(126\, 126\, 126)\;" white-space:="">&nbsp\;</div>\n\n<div century="" font-size:="" style="color: rgb(126\, 126\, 126)\;" white-space:=""><span style="font-size:16px\;"><span style="color: rgb(0\, 0\, 0)\;">It is time to elect members to that board.&nbsp\;</span><span style="color: black\;">Currently\, there are</span><span style="color: black\; font-weight: bold\;">&nbsp\;four open seats</span><span style="color: black\;">. The vote will be held at the October Member Meeting.</span></span></div>\n
LOCATION:Kristenwood Reception 14025 Greenwell Springs Rd Greenwell Springs\, LA 70739
UID:e.1367.1688
SEQUENCE:3
DTSTAMP:20260423T173345Z
URL:https://business.cityofcentralchamber.com/events/details/members-monthly-luncheon-w-lt-governor-billy-nungesser-1688
END:VEVENT

END:VCALENDAR
