BEGIN:VCALENDAR
VERSION:2.0
PRODID:-//ChamberMaster//Event Calendar 2.0//EN
METHOD:PUBLISH
X-PUBLISHED-TTL:P3D
REFRESH-INTERVAL:P3D
CALSCALE:GREGORIAN
BEGIN:VEVENT
DTSTART:20200812T163000Z
DTEND:20200812T180000Z
X-MICROSOFT-CDO-ALLDAYEVENT:FALSE
SUMMARY:Members' Monthly Luncheon: Legislative Update
DESCRIPTION:We will be meeting for our first luncheon since quarantine on August 12. You won't want to miss this - we will be sharing a legislative update. What's new & what's coming up in the legislature that will affect your bottom line. RSVP on our website and we will see you at Kristenwood on August 12th at 11:30 am.\n\n\n\nDue to social distance requirements\, all attendees must be pre-registered and pre-paid. Thank you for your cooperation!
X-ALT-DESC;FMTTYPE=text/html:<span style="font-family:arial\;"><span style="color: rgb(0\, 0\, 0)\; font-size: 16px\; white-space: pre-wrap\;">We will be meeting for our first luncheon since quarantine on August 12. You won&#39\;t want to miss this - we will be sharing a legislative update. What&#39\;s new &amp\; what&#39\;s coming up in the legislature that will affect your bottom line. RSVP on our website and we will see you at Kristenwood on August 12th at 11:30 am.<br />\n<br />\nDue to social distance requirements\, all attendees must be pre-registered and pre-paid. Thank you for your cooperation! </span></span>
LOCATION:Kristenwood 14025 Greenwell Springs Rd
UID:e.1367.2957
SEQUENCE:3
DTSTAMP:20260424T142605Z
URL:https://business.cityofcentralchamber.com/events/details/members-monthly-luncheon-legislative-update-2957
END:VEVENT

END:VCALENDAR
