BEGIN:VCALENDAR
VERSION:2.0
PRODID:-//ChamberMaster//Event Calendar 2.0//EN
METHOD:PUBLISH
X-PUBLISHED-TTL:P3D
REFRESH-INTERVAL:P3D
CALSCALE:GREGORIAN
BEGIN:VEVENT
DTSTART:20200909T163000Z
DTEND:20200909T180000Z
X-MICROSOFT-CDO-ALLDAYEVENT:FALSE
SUMMARY:Members' Monthly Luncheon: Central Schools
DESCRIPTION:Join us for an update from Central Community Schools. RSVP on our website and we will see you at Kristenwood on Sept. 9 at 11:30 am.\n\n\n\nDue to social distance requirements\, all attendees must be pre-registered and pre-paid. Thank you for your cooperation!\n\nFor lunch there will be a seafood buffet: \n\nFried Fish  \n\nFried Shrimp\n\nStuffed Crab\n\nShrimp Fettuccine\n\nBoudin Balls\n\nCaesar   Salad
X-ALT-DESC;FMTTYPE=text/html:<span style="color:#000000\;"><span style="font-family:arial\;"><span style="font-size: 16px\;">Join us for an update from Central Community Schools.&nbsp\;</span><span style="font-size: 16px\; white-space: pre-wrap\;">RSVP on our website and we will see you at Kristenwood on Sept. 9 at 11:30 am.</span><br style="color: rgb(0\, 0\, 0)\; font-family: arial\; font-size: 16px\; white-space: pre-wrap\;" />\n<br style="color: rgb(0\, 0\, 0)\; font-family: arial\; font-size: 16px\; white-space: pre-wrap\;" />\n<span style="font-size: 16px\; white-space: pre-wrap\;">Due to social distance requirements\, all attendees must be <strong>pre-registered and pre-paid. </strong>Thank you for your cooperation!<br />\nFor lunch there will be a seafood buffet: </span></span></span><br />\n<span style="font-size:16px\;"><span style="font-family:arial\;">Fried Fish &#128031\;<br />\nFried Shrimp<br />\nStuffed Crab<br />\nShrimp Fettuccine<br />\nBoudin Balls<br />\nCaesar &#129367\; Salad</span></span>
LOCATION:Kristenwood 14025 Greenwell Springs Rd
UID:e.1367.1675
SEQUENCE:3
DTSTAMP:20260424T124617Z
URL:https://business.cityofcentralchamber.com/events/details/members-monthly-luncheon-central-schools-1675
END:VEVENT

END:VCALENDAR
