BEGIN:VCALENDAR
VERSION:2.0
PRODID:-//ChamberMaster//Event Calendar 2.0//EN
METHOD:PUBLISH
X-PUBLISHED-TTL:P3D
REFRESH-INTERVAL:P3D
CALSCALE:GREGORIAN
BEGIN:VEVENT
DTSTART:20201014T163000Z
DTEND:20201014T180000Z
X-MICROSOFT-CDO-ALLDAYEVENT:FALSE
SUMMARY:Members' Monthly Luncheon: Awards & Board Election!
DESCRIPTION:Due to social distance requirements\, all attendees must be pre-registered and pre-paid. Thank you for your cooperation!\n\n\n\nYou don't want to miss this month's meeting. Our agenda is jam packed with the best and brightest Central has to offer. We will be presenting (finally) 2019 Business of the Year Awards!!\, Scholarships!! and holding elections for the Central Chamber Board of directors. \n\n\n\nJoin us! RSVP by clicking "Register" and we will see you at Kristenwood on Oct. 14 at 11:30 am.\n\n\n\n \nCentral Chamber of Commerce Board Elections!\n\nIt is time to elect members to the board that will help set the policy and direction of the Central Chamber of Commerce for three years.\n\n \n\nCurrently on the ballot are: Shauna Allison (Smooch my Pooch)\, Tim Lazaroe (RV Cams\, Inc)\, Kristin Perrin (Southern Charm) and Heather Prejean (Bank of Zachary).\n\n \n\nThe vote will be held at the October Member Meeting. If you would like to nominate another candidate to the ballot\, you can do so by petition.\n\n\n	Nomination by Petition: Additional nominations for directors can be entered by a petition bearing the genuine signature of the candidate and at least one (1) other eligible "Active Member" of The Chamber in good standing. Such petition must be filed with the Nominating Committee at least two weeks prior to the October membership meeting. The Nominating Committee will determine the legality of the petition(s) and the eligibility of the candidates. All decisions made by the Nominating Committee shall be final.
X-ALT-DESC;FMTTYPE=text/html:<span style="color: rgb(0\, 0\, 0)\; font-family: arial\; font-size: 16px\; white-space: pre-wrap\;">Due to social distance requirements\, all attendees must be </span><span style="color: rgb(0\, 0\, 0)\; font-family: arial\; font-size: 16px\; white-space: pre-wrap\; box-sizing: border-box\; font-weight: bolder\;">pre-registered and pre-paid. </span><span style="color: rgb(0\, 0\, 0)\; font-family: arial\; font-size: 16px\; white-space: pre-wrap\;">Thank you for your cooperation!</span><br />\n<br />\n<span style="box-sizing: border-box\; font-family: Calibri\, Verdana\, Geneva\, sans-serif\; font-size: 16px\; color: rgb(0\, 0\, 0)\;"><span style="box-sizing: border-box\; font-family: arial\;"><span style="box-sizing: border-box\;">You don&#39\;t want to miss this month&#39\;s meeting. Our agenda is jam packed with the best and brightest Central has to offer. We will be presenting (finally) 2019 Business of the Year Awards!!\, Scholarships!! and holding elections for the Central Chamber Board of directors.&nbsp\;<br />\n<br />\nJoin us!&nbsp\;</span><span style="box-sizing: border-box\; white-space: pre-wrap\;">RSVP by clicking &quot\;Register&quot\; and we will see you at Kristenwood on Oct. 14 at 11:30 am.</span></span></span><br style="box-sizing: border-box\; white-space: pre-wrap\;" />\n<br style="box-sizing: border-box\;" />\n&nbsp\;\n<div align="center" century="" font-size:="" style="color: rgb(126\, 126\, 126)\; font-family: " text-align:=""><span style="font-size:16px\;"><span style="font-family:arial\;"><span style="color: rgb(113\, 171\, 82)\; font-weight: bold\;">Central Chamber of Commerce Board Elections!</span></span></span></div>\n\n<div century="" font-size:="" style="color: rgb(126\, 126\, 126)\; font-family: "><span style="font-size:16px\;"><span style="font-family:arial\;"><span style="color: rgb(0\, 0\, 0)\;">It is time to elect members to the board that will help set the policy and direction of the Central Chamber of Commerce for three years.</span></span></span></div>\n\n<div century="" font-size:="" style="color: rgb(126\, 126\, 126)\; font-family: ">&nbsp\;</div>\n\n<div century="" font-size:="" style="color: rgb(126\, 126\, 126)\; font-family: "><span style="font-size:16px\;"><span style="font-family:arial\;"><span style="color: rgb(0\, 0\, 0)\;">Currently on the ballot are: Shauna Allison (Smooch my Pooch)\, Tim Lazaroe (RV Cams\, Inc)\, Kristin Perrin (Southern Charm) and Heather Prejean (Bank of Zachary).</span></span></span></div>\n\n<div century="" font-size:="" style="color: rgb(126\, 126\, 126)\; font-family: ">&nbsp\;</div>\n\n<div century="" font-size:="" style="color: rgb(126\, 126\, 126)\; font-family: "><span style="font-size:16px\;"><span style="font-family:arial\;"><span style="color: rgb(0\, 0\, 0)\;">The vote will be held at the October Member Meeting. If you would&nbsp\;</span><span style="color: rgb(0\, 0\, 0)\;">like to nominate another candidate to the ballot\, you can do so by petition.</span></span></span></div>\n\n<ul century="" font-size:="" style="padding-right: 0px\; padding-left: 0px\; margin: 0px 0px 0px 40px\; color: rgb(126\, 126\, 126)\; font-family: ">\n	<li style="padding: 0px\; margin: 0px\; line-height: 1.2\; font-size: 15px\; color: rgb(0\, 0\, 0)\;"><span style="font-size:14px\;"><span style="font-family:arial\;"><span style="font-weight: bold\;">Nomination by Petition:&nbsp\;</span>Additional nominations for directors can be entered by a petition bearing the genuine signature of the candidate and at least one (1) other eligible &ldquo\;Active Member&rdquo\; of The Chamber in good standing.&nbsp\;Such petition must be filed with the Nominating Committee at least two weeks prior to the October membership meeting.&nbsp\;The Nominating Committee will determine the legality of the petition(s) and the eligibility of the candidates.&nbsp\;All decisions made by the Nominating Committee shall be final.</span></span></li>\n</ul>\n
LOCATION:Kristenwood 14025 Greenwell Springs Rd.
UID:e.1367.1676
SEQUENCE:3
DTSTAMP:20260424T110909Z
URL:https://business.cityofcentralchamber.com/events/details/members-monthly-luncheon-awards-board-election-1676
END:VEVENT

END:VCALENDAR
