BEGIN:VCALENDAR
VERSION:2.0
PRODID:-//ChamberMaster//Event Calendar 2.0//EN
METHOD:PUBLISH
X-PUBLISHED-TTL:P3D
REFRESH-INTERVAL:P3D
CALSCALE:GREGORIAN
BEGIN:VEVENT
DTSTART:20220413T163000Z
DTEND:20220413T180000Z
X-MICROSOFT-CDO-ALLDAYEVENT:FALSE
SUMMARY:Members' Monthly Luncheon at Central Private Gurney Campus
DESCRIPTION:Central Private has invited us to tour the school for our Members Monthly Lunch on Wednesday April 13th . \n\nRSVP by clicking "Register" on the right and we will see you at Central Private - Gurney Campus on April 13\, 2022 at 11:30 am.\n\n\n\nDue to limited space all attendees MUST be pre-registered and pre-paid. Thank you for your cooperation!
X-ALT-DESC;FMTTYPE=text/html:<p><span style="box-sizing: border-box\; color: rgb(0\, 0\, 0)\; font-family: arial\; font-size: 16px\;">Central Private has invited us to tour the school for our Members Monthly Lunch on Wednesday April 13th .&nbsp\;</span></p>\n\n<p><span style="box-sizing: border-box\; color: rgb(0\, 0\, 0)\; font-family: arial\; font-size: 16px\; white-space: pre-wrap\;">RSVP by clicking &quot\;Register&quot\; on the right and we will see you at Central Private - Gurney Campus on April 13\, 2022 at 11:30 am.</span><br style="box-sizing: border-box\; color: rgb(0\, 0\, 0)\; font-family: arial\; font-size: 16px\; white-space: pre-wrap\;" />\n<br style="box-sizing: border-box\; color: rgb(0\, 0\, 0)\; font-family: arial\; font-size: 16px\; white-space: pre-wrap\;" />\n<span style="box-sizing: border-box\; color: rgb(0\, 0\, 0)\; font-family: arial\; font-size: 16px\; white-space: pre-wrap\;">Due to limited space all attendees <u><strong>MUST be</strong></u> <span style="box-sizing: border-box\; font-weight: bolder\;">pre-registered and pre-paid. </span>Thank you for your cooperation!</span></p>\n
LOCATION:Central Private Gurney Campus 12650 Gurney Road Central\, Louisiana 70818
UID:e.1367.1694
SEQUENCE:3
DTSTAMP:20260423T055736Z
URL:https://business.cityofcentralchamber.com/events/details/members-monthly-luncheon-at-central-private-gurney-campus-1694
END:VEVENT

END:VCALENDAR
