BEGIN:VCALENDAR
VERSION:2.0
PRODID:-//ChamberMaster//Event Calendar 2.0//EN
METHOD:PUBLISH
X-PUBLISHED-TTL:P3D
REFRESH-INTERVAL:P3D
CALSCALE:GREGORIAN
BEGIN:VEVENT
DTSTART:20210908T163000Z
DTEND:20210908T180000Z
X-MICROSOFT-CDO-ALLDAYEVENT:FALSE
SUMMARY:Members' Monthly Luncheon: Ashley Rush & Central Athletics
DESCRIPTION:Join us as we explore a local Central Business and hear an update from Central Athletics Director\, Ashley Rush. \n\n\n\nAll guests will have their temperatures checked before entry and will be asked to wear a mask when not eating.
X-ALT-DESC;FMTTYPE=text/html:<span style="font-family:arial\;"><span style="font-size:16px\;">Join us as we explore a local Central Business and hear an update from Central Athletics Director\, Ashley Rush.&nbsp\;<br />\n<br />\nAll guests will have their temperatures checked before entry and will be asked to wear a mask when not eating.&nbsp\;</span></span>
LOCATION:Community Haven 6565 Morgan Rd Central\, LA 70739
UID:e.1367.1686
SEQUENCE:3
DTSTAMP:20260423T185718Z
URL:https://business.cityofcentralchamber.com/events/details/members-monthly-luncheon-ashley-rush-central-athletics-1686
END:VEVENT

END:VCALENDAR
