BEGIN:VCALENDAR
VERSION:2.0
PRODID:-//ChamberMaster//Event Calendar 2.0//EN
METHOD:PUBLISH
X-PUBLISHED-TTL:P3D
REFRESH-INTERVAL:P3D
CALSCALE:GREGORIAN
BEGIN:VEVENT
DTSTART:20190410T130000Z
DTEND:20190410T143000Z
X-MICROSOFT-CDO-ALLDAYEVENT:FALSE
SUMMARY:Members' Monthly BREAKFAST
DESCRIPTION:Breakfast Training\n\nSession for 2019!\n\nFeaturing - APTUS Marketing\nInstructor: Brockwell Bone\n\nTOPIC - Digital Media
X-ALT-DESC;FMTTYPE=text/html:<em style="color: rgb(0\, 128\, 0)\;"><span style="font-size: 20px\;"><span style="font-family: tahoma\;"><b>Breakfast&nbsp\;</b></span></span></em><em style="color: rgb(0\, 128\, 0)\;"><span style="font-size: 20px\;"><span style="font-family: tahoma\;"><b>Training</b></span></span></em><br />\n<em style="color: rgb(0\, 128\, 0)\;"><span style="font-size: 20px\;"><span style="font-family: tahoma\;"><b>Session for 2019!<br />\nFeaturing - APTUS Marketing</b></span></span></em>\n<p style="margin:0in\;margin-bottom:.0001pt"><b><span style="font-family: Arial\, sans-serif\; color: black\;">Instructor: Brockwell Bone</span><br />\n<em><span style="color:#008000\;"><span style="font-family: Arial\, sans-serif\;">TOPIC </span></span></em><span style="font-family: Arial\, sans-serif\; color: black\;">- <u>Digital Media</u></span></b></p>\n
LOCATION:Kristenwood 14025 Greenwell Springs Rd
UID:e.1367.1658
SEQUENCE:3
DTSTAMP:20260425T143649Z
URL:https://business.cityofcentralchamber.com/events/details/members-monthly-breakfast-04-10-2019-1658
END:VEVENT

END:VCALENDAR
