BEGIN:VCALENDAR
VERSION:2.0
PRODID:-//ChamberMaster//Event Calendar 2.0//EN
METHOD:PUBLISH
X-PUBLISHED-TTL:P3D
REFRESH-INTERVAL:P3D
CALSCALE:GREGORIAN
BEGIN:VEVENT
DTSTART:20220713T163000Z
DTEND:20220713T180000Z
X-MICROSOFT-CDO-ALLDAYEVENT:FALSE
SUMMARY:Members' Meeting at BREC Jackson Park
DESCRIPTION:Join us for an update from Brandon Smith\, BREC Assistant Superintendent at Jackson Park on July 13. RSVP by clicking "Register" on the right and we will see you at 11:30 am.\n\n\n\nDue to limited seating attendees must be pre-registered and pre-paid. Thank you for your cooperation!
X-ALT-DESC;FMTTYPE=text/html:<span style="font-size:16px\;"><span style="font-family:arial\;"><span style="box-sizing: border-box\; color: rgb(0\, 0\, 0)\;">Join us for an update from </span><span style="color:black\;">Brandon Smith\, BREC Assistant Superintendent&nbsp\;</span><span style="box-sizing: border-box\; color: rgb(0\, 0\, 0)\;">at Jackson Park on July 13.&nbsp\;</span><span style="box-sizing: border-box\; color: rgb(0\, 0\, 0)\; white-space: pre-wrap\;">RSVP by clicking &quot\;Register&quot\; on the right and we will see you at 11:30 am.</span></span></span><br style="box-sizing: border-box\; color: rgb(0\, 0\, 0)\; font-family: arial\; font-size: 16px\; white-space: pre-wrap\;" />\n<br style="box-sizing: border-box\; color: rgb(0\, 0\, 0)\; font-family: arial\; font-size: 16px\; white-space: pre-wrap\;" />\n<span style="box-sizing: border-box\; color: rgb(0\, 0\, 0)\; white-space: pre-wrap\;"><span style="font-size:16px\;"><span style="font-family:arial\;">Due to limited seating attendees must be <span style="box-sizing: border-box\; font-weight: bolder\;">pre-registered and pre-paid. </span>Thank you for your cooperation</span></span>!</span>
LOCATION:Jackson Park 12250 Sullivan Rd Central\, LA 70818
UID:e.1367.1697
SEQUENCE:3
DTSTAMP:20260423T015328Z
URL:https://business.cityofcentralchamber.com/events/details/members-meeting-at-brec-jackson-park-1697
END:VEVENT

END:VCALENDAR
