BEGIN:VCALENDAR
VERSION:2.0
PRODID:-//ChamberMaster//Event Calendar 2.0//EN
METHOD:PUBLISH
X-PUBLISHED-TTL:P3D
REFRESH-INTERVAL:P3D
CALSCALE:GREGORIAN
BEGIN:VEVENT
DTSTART:20220309T173000Z
DTEND:20220309T190000Z
X-MICROSOFT-CDO-ALLDAYEVENT:FALSE
SUMMARY:Members Luncheon
DESCRIPTION:Join us at Kristenwood to here insightful business information and make valuable connections with other business leaders in the Central area.  Guest Speaker will be Carmen Million\, President of the Better Business Bureau of South Central Louisiana\n\n\n\nSpace is limited so please pre-register & pre-pay.
X-ALT-DESC;FMTTYPE=text/html:<span style="box-sizing: border-box\; font-weight: bolder\; font-family: arial\; font-size: 16px\;">Join us at Kristenwood to here insightful business information and make valuable connections with other business leaders in the Central area.&nbsp\; Guest Speaker will be Carmen Million\, President of the</span><span style="font-size:18px\;"><strong><span style="box-sizing: border-box\; font-weight: bolder\; font-family: arial\;">&nbsp\;</span><span style="font-size:16px\;">Better Business Bureau of South Central Louisiana</span></strong></span><br style="box-sizing: border-box\;" />\n<br style="box-sizing: border-box\;" />\n<span style="box-sizing: border-box\; font-weight: bolder\; font-family: arial\; font-size: 16px\;">Space is limited so please pre-register &amp\; pre-pay.&nbsp\;</span>
LOCATION:Kristenwood 14025 Greenwell Springs Rd Central\, LA 70739
UID:e.1367.1693
SEQUENCE:3
DTSTAMP:20260423T072745Z
URL:https://business.cityofcentralchamber.com/events/details/members-luncheon-1693
END:VEVENT

END:VCALENDAR
