BEGIN:VCALENDAR
VERSION:2.0
PRODID:-//ChamberMaster//Event Calendar 2.0//EN
METHOD:PUBLISH
X-PUBLISHED-TTL:P3D
REFRESH-INTERVAL:P3D
CALSCALE:GREGORIAN
BEGIN:VEVENT
DTSTART:20190613T163000Z
DTEND:20190613T180000Z
X-MICROSOFT-CDO-ALLDAYEVENT:FALSE
SUMMARY:Management Made Easy Series
DESCRIPTION:Management Made Easy Series\n\nSession 1 of 5\n\nBuilding a Team that Gets Results
X-ALT-DESC;FMTTYPE=text/html:Management Made Easy Series<br />\nSession 1 of 5<br />\nBuilding a Team that Gets Results
LOCATION:Central Branch Library 11260 Joor Road
UID:e.1367.2752
SEQUENCE:3
DTSTAMP:20260425T112132Z
URL:https://business.cityofcentralchamber.com/events/details/management-made-easy-series-2752
END:VEVENT

END:VCALENDAR
