BEGIN:VCALENDAR
VERSION:2.0
PRODID:-//ChamberMaster//Event Calendar 2.0//EN
METHOD:PUBLISH
X-PUBLISHED-TTL:P3D
REFRESH-INTERVAL:P3D
CALSCALE:GREGORIAN
BEGIN:VEVENT
DTSTART:20231026T223000Z
DTEND:20231026T230000Z
X-MICROSOFT-CDO-ALLDAYEVENT:FALSE
SUMMARY:Magnolia Key Realty & Co Ribbon Cutting
DESCRIPTION:Join us as we celebrate Magnolia Key Realty & Co Grand Opening in Central
X-ALT-DESC;FMTTYPE=text/html:Join us as we celebrate Magnolia Key Realty &amp\; Co Grand Opening in Central&nbsp\;
LOCATION:18564 Magnolia Bridge Rd Suite 112\, Greenwell Springs\, LA 70739
UID:e.1367.3159
SEQUENCE:3
DTSTAMP:20260422T015027Z
URL:https://business.cityofcentralchamber.com/events/details/magnolia-key-realty-co-ribbon-cutting-3159
END:VEVENT

END:VCALENDAR
