BEGIN:VCALENDAR
VERSION:2.0
PRODID:-//ChamberMaster//Event Calendar 2.0//EN
METHOD:PUBLISH
X-PUBLISHED-TTL:P3D
REFRESH-INTERVAL:P3D
CALSCALE:GREGORIAN
BEGIN:VEVENT
DTSTART:20250502T170000Z
DTEND:20250502T173000Z
X-MICROSOFT-CDO-ALLDAYEVENT:FALSE
SUMMARY:Magnolia Bridge Animal Hospital - Ribbon Cutting
DESCRIPTION:Exciting news! Magnolia Bridge Animal Hospital is now a part of the Chamber\, Let's celebrate with a Ribbon Cutting!   \n\n\n\nJoin us for a special ribbon-cutting ceremony as we welcome this new veterinary care facility to the community!
X-ALT-DESC;FMTTYPE=text/html:<p data-end="128" data-start="37"><span style="font-size:18px\;"><span style="font-family:segoe ui emoji\,sans-serif\;">&#128062\;</span><span style="font-family:segoe ui emoji\,sans-serif\;">&#9986\;&#65039\;</span> Exciting news! Magnolia Bridge Animal Hospital is now a part of the Chamber\, Let&rsquo\;s celebrate with a Ribbon Cutting! <span style="font-family:segoe ui emoji\,sans-serif\;">&#127881\;&#127973\;</span><br />\n<br />\nJoin us for a special ribbon-cutting ceremony as we welcome this new veterinary care facility to the community! <span style="font-family:segoe ui emoji\,sans-serif\;">&#128154\;</span></span></p>\n
LOCATION:Location: 18364 Magnolia Bridge Road
UID:e.1367.3232
SEQUENCE:3
DTSTAMP:20260420T143920Z
URL:https://business.cityofcentralchamber.com/events/details/magnolia-bridge-animal-hospital-ribbon-cutting-3232
END:VEVENT

END:VCALENDAR
