BEGIN:VCALENDAR
VERSION:2.0
PRODID:-//ChamberMaster//Event Calendar 2.0//EN
METHOD:PUBLISH
X-PUBLISHED-TTL:P3D
REFRESH-INTERVAL:P3D
CALSCALE:GREGORIAN
BEGIN:VEVENT
DTSTART:20221111T163000Z
DTEND:20221111T173000Z
X-MICROSOFT-CDO-ALLDAYEVENT:FALSE
SUMMARY:Lockheart Insurance and Consulting Agency - Ribbon Cutting
DESCRIPTION:Come join us in the Celebration of Juanita Lockheart with Lockheart Insurance and Consulting Agency's NEW LOCATION in CENTRAL!
X-ALT-DESC;FMTTYPE=text/html:Come join us in the Celebration of Juanita Lockheart with Lockheart Insurance and Consulting Agency&#39\;s NEW LOCATION in CENTRAL!&nbsp\;
LOCATION:11247 Sullivan Rd
UID:e.1367.3089
SEQUENCE:3
DTSTAMP:20260422T193317Z
URL:https://business.cityofcentralchamber.com/events/details/lockheart-insurance-and-consulting-agency-ribbon-cutting-3089
END:VEVENT

END:VCALENDAR
