BEGIN:VCALENDAR
VERSION:2.0
PRODID:-//ChamberMaster//Event Calendar 2.0//EN
METHOD:PUBLISH
X-PUBLISHED-TTL:P3D
REFRESH-INTERVAL:P3D
CALSCALE:GREGORIAN
BEGIN:VEVENT
DTSTART;VALUE=DATE:20250213
DTEND;VALUE=DATE:20250214
TRANSP:TRANSPARENT
X-MICROSOFT-CDO-ALLDAYEVENT:TRUE
SUMMARY:Local Business Valentine Gram
DESCRIPTION:Let's Play Cupid Send a Candy Gram to a Local Business!  \n\n \n\nThis Valentine's Day\, let's spread community love in the sweetest way! Our Business Candy Gram Deliveries are the perfect way to show appreciation to fellow businesses\, clients\, employees\, or partners.    \n\n  How It Works:\n\n  Sign up to send a Candy Gram filled with delicious treats & a heartfelt note to a local business!\n\n  Choose your recipient whether it's a neighboring business\, a valued client\, or a hardworking team that deserves a sweet surprise!\n\n  We deliver straight to their workplace on Feb. 13th & 14th!\n\n \n\n  Why Participate?\n\n   Strengthen business connections with a thoughtful gesture\n\n   Boost workplace morale with a surprise treat\n\n   Support & uplift fellow local businesses\n\n  Sign up now!
X-ALT-DESC;FMTTYPE=text/html:<p><span style="font-size:20px\;">&#128152\; <strong>Let&rsquo\;s Play Cupid&mdash\;Send a Candy Gram to a Local Business!</strong> &#128152\;</span><br />\n&nbsp\;</p>\n\n<p><span style="font-size:18px\;">This Valentine&rsquo\;s Day\, let&rsquo\;s spread <strong>community love</strong> in the sweetest way! Our <strong>Business Candy Gram Deliveries</strong> are the perfect way to show appreciation to fellow businesses\, clients\, employees\, or partners. &#10084\;&#65039\;&#10024\;</span></p>\n\n<p><span style="font-size:18px\;">&#128204\; <strong>How It Works:</strong><br />\n&#128157\; <strong>Sign up</strong> to send a Candy Gram filled with delicious treats &amp\; a heartfelt note to a local business!<br />\n&#128140\; <strong>Choose your recipient</strong>&mdash\;whether it&rsquo\;s a neighboring business\, a valued client\, or a hardworking team that deserves a sweet surprise!<br />\n&#128666\; <strong>We deliver</strong> straight to their workplace on <strong>Feb. 13th &amp\; 14th!</strong></span><br />\n&nbsp\;</p>\n\n<p><span style="font-size:18px\;">&#10024\; <strong>Why Participate?</strong><br />\n&#10004\;&#65039\; Strengthen business connections with a thoughtful gesture<br />\n&#10004\;&#65039\; Boost workplace morale with a surprise treat<br />\n&#10004\;&#65039\; Support &amp\; uplift fellow local businesses</span></p>\n\n<p><span style="font-size:18px\;">&#128279\; <strong>Sign up now!</strong></span></p>\n
LOCATION:Delivery Area: City of Central Please add name & business contact in the registration comments
UID:e.1367.3218
SEQUENCE:3
DTSTAMP:20260420T210135Z
URL:https://business.cityofcentralchamber.com/events/details/local-business-valentine-gram-3218
END:VEVENT

END:VCALENDAR
