BEGIN:VCALENDAR
VERSION:2.0
PRODID:-//ChamberMaster//Event Calendar 2.0//EN
METHOD:PUBLISH
X-PUBLISHED-TTL:P3D
REFRESH-INTERVAL:P3D
CALSCALE:GREGORIAN
BEGIN:VEVENT
DTSTART:20211031T170000Z
DTEND:20211031T210000Z
X-MICROSOFT-CDO-ALLDAYEVENT:FALSE
SUMMARY:LifeShare Blood Drive at the Claiborne at Shoe Creek
DESCRIPTION:Life-Saving\n\nBlood Drive\n\n\n	The Claiborne at Shoe Creek \n	LifeShare Bus \n	9750 Couret Dr.\, Central\, LA\n	Sunday\, October 31st\, Noon to 4 PM\n\n\n\nYour blood donation will go to someone battling cancer\, enduring sickle cell disease\, undergoing surgery\, or suffering a traumatic accident. \n\n\n\nReceive a t-shirt for your donation while supplies last. \n\n\n\nMobile drive dates\, times and locations are subject to change. For the most up-to-date mobile drive information\, please visit LifeShare.org/Give
X-ALT-DESC;FMTTYPE=text/html:<div style="text-align: center\;"><span style="font-size:18px\;"><strong>Life-Saving<br />\nBlood Drive</strong></span></div>\n\n<ul>\n	<li><span style="font-size:16px\;">The Claiborne at Shoe Creek&nbsp\;</span></li>\n	<li><span style="font-size:16px\;">LifeShare Bus&nbsp\;</span></li>\n	<li><span style="font-size:16px\;">9750 Couret Dr.\, Central\, LA</span></li>\n	<li><span style="font-size:16px\;">Sunday\, October 31st\, Noon to 4 PM</span></li>\n</ul>\n<br />\n<span style="font-size:16px\;"><strong>Your blood donation</strong> will go to someone battling cancer\, enduring sickle cell disease\, undergoing surgery\, or suffering a traumatic accident.&nbsp\;<br />\n<br />\nReceive a t-shirt for your donation while supplies last.&nbsp\;<br />\n<br />\nMobile drive dates\, times and locations are subject to change. For the most up-to-date mobile drive information\, please visit LifeShare.org/Give</span>
LOCATION:The Claiborne at Shoe Creek 9750 Couret Dr. Central\, LA
UID:e.1367.3019
SEQUENCE:3
DTSTAMP:20260423T174123Z
URL:https://business.cityofcentralchamber.com/events/details/lifeshare-blood-drive-at-the-claiborne-at-shoe-creek-3019
END:VEVENT

END:VCALENDAR
