BEGIN:VCALENDAR
VERSION:2.0
PRODID:-//ChamberMaster//Event Calendar 2.0//EN
METHOD:PUBLISH
X-PUBLISHED-TTL:P3D
REFRESH-INTERVAL:P3D
CALSCALE:GREGORIAN
BEGIN:VEVENT
DTSTART:20231012T160000Z
DTEND:20231012T163000Z
X-MICROSOFT-CDO-ALLDAYEVENT:FALSE
SUMMARY:La Belle Pearl Events' Ribbon Cutting
DESCRIPTION:Join us as we celebrate La Belle Pearl Events' Grand Opening in Central
X-ALT-DESC;FMTTYPE=text/html:Join us as we celebrate La Belle Pearl Events&#39\; Grand Opening in Central&nbsp\;
LOCATION:6691 Sullivan Rd\, Central City\, LA\, United States\, Louisiana
UID:e.1367.3147
SEQUENCE:3
DTSTAMP:20260422T015053Z
URL:https://business.cityofcentralchamber.com/events/details/la-belle-pearl-events-ribbon-cutting-3147
END:VEVENT

END:VCALENDAR
