BEGIN:VCALENDAR
VERSION:2.0
PRODID:-//ChamberMaster//Event Calendar 2.0//EN
METHOD:PUBLISH
X-PUBLISHED-TTL:P3D
REFRESH-INTERVAL:P3D
CALSCALE:GREGORIAN
BEGIN:VEVENT
DTSTART:20220220T010000Z
DTEND:20220220T055500Z
X-MICROSOFT-CDO-ALLDAYEVENT:FALSE
SUMMARY:Krewe De Centrale Mardi Gras Ball: The Greatest Show
DESCRIPTION:16th Annual Krewe de Centrale'\n\nMardi Gras Ball\n\nThe Greatest Show\n\n\n\n* Feb. 19\, Doors open @ 7 pm\, Music starts @ 8 pm.\n\n  DJ providing dance jams all night!\n\n  Raffles!\n\n  Photo booth!\n\n  Drinks available for purchase!\n\n  Formal attire  \n\n\n\nLocation: Central City Shopping Center\n\n13539 Hooper Rd\n\nCentral\, LA 70818\n\n\n\nPlease Note: Photos taken at the event by Chamber staff or a professional photographer may be posted on social media or used in future promotion. By attending the Mardi Gras Ball you are consenting to have your photo taken.\n\n\n\nNo food will be for sale at the event. You are welcome to bring your own.\n\n\n\nGeneral Admission Tickets are $50.\n\nTables of 8 are $450.\n\n\n\nFor decorators: Tables are 5' round and approximately 30" high.
X-ALT-DESC;FMTTYPE=text/html:<span style="font-size:16px\;"><span style="font-family:arial\;"><strong>16th Annual Krewe de Centrale&#39\;</strong><br />\nMardi Gras Ball<br />\nThe Greatest Show<br />\n<br />\n* Feb. 19\, Doors open @ 7 pm\, Music starts @ 8 pm.<br />\n&#127926\; DJ providing dance jams all night!<br />\n&#127903\; Raffles!<br />\n&#128248\; Photo booth!<br />\n&#127864\; Drinks available for purchase!<br />\n&#128131\; Formal attire &#128378\;<br />\n<br />\nLocation: Central City Shopping Center<br />\n13539 Hooper Rd<br />\nCentral\, LA 70818<br />\n<br />\nPlease Note: Photos taken at the event by Chamber staff or a professional photographer may be posted on social media or used in future promotion. By attending the Mardi Gras Ball you are consenting to have your photo taken.<br />\n<br />\nNo food will be for sale at the event. You are welcome to bring your own.<br />\n<br />\nGeneral Admission Tickets are $50.<br />\nTables of 8 are $450.<br />\n<br />\nFor decorators: Tables are 5&#39\; round and approximately 30&quot\; high.&nbsp\;</span></span>
LOCATION:13539 Hooper Rd Baton Rouge\, LA 70818
UID:e.1367.3024
SEQUENCE:3
DTSTAMP:20260423T085959Z
URL:https://business.cityofcentralchamber.com/events/details/krewe-de-centrale-mardi-gras-ball-the-greatest-show-3024
END:VEVENT

END:VCALENDAR
