BEGIN:VCALENDAR
VERSION:2.0
PRODID:-//ChamberMaster//Event Calendar 2.0//EN
METHOD:PUBLISH
X-PUBLISHED-TTL:P3D
REFRESH-INTERVAL:P3D
CALSCALE:GREGORIAN
BEGIN:VEVENT
DTSTART:20240204T000000Z
DTEND:20240204T050000Z
X-MICROSOFT-CDO-ALLDAYEVENT:FALSE
SUMMARY:Krewe De Centrale Mardi Gras Ball: Nashville Nights
DESCRIPTION:17th Annual Krewe de Centrale' Mardi Gras Ball\n\nTheme: Nashville Nights\n\nAttire: From Country Western to Country Glam - get as dressed up as you would like or take it easy with a simple country look. \n\nBand: Downbeat Louisiana\n\n\n\nFood will be provided this year\, buffet style on fourth floor.\n\nFull cash bar located on the second and third floor.\n\nWine and beer bar located on fourth floor with buffet.
X-ALT-DESC;FMTTYPE=text/html:<span style="font-family:tahoma\;"><span style="color:#996699\;"><span style="font-size:16px\;"><strong>17th Annual Krewe de Centrale&#39\;&nbsp\;</strong></span><strong><span style="font-size: 16px\;">Mardi Gras Ball</span></strong></span></span><br />\n<span style="font-size:16px\;"><span style="font-family:arial\;"><strong>Theme:</strong> <span style="font-family:tahoma\;"><strong><span style="color:#DAA520\;">Nashville Nights</span></strong></span><br />\n<strong>Attire: </strong>From Country Western to Country Glam - get as dressed up as you would like or take it easy with a simple country look.&nbsp\;<br />\n<strong>Band: </strong>Downbeat Louisiana</span></span><br />\n<br />\n<span style="font-family:tahoma\;"><span style="font-size:18px\;"><strong><span style="color:#006699\;">Food will be provided this year\, buffet style on fourth floor.</span><br />\n<span style="color:#DAA520\;">Full cash bar located on the second and third floor.</span><br />\n<span style="color:#6699cc\;">Wine and beer bar located on fourth floor with buffet.</span></strong></span></span><br />\n&nbsp\;
LOCATION:Red Stick Social 1503 Government St\, Baton Rouge\, LA 70802
UID:e.1367.3137
SEQUENCE:3
DTSTAMP:20260421T200808Z
URL:https://business.cityofcentralchamber.com/events/details/krewe-de-centrale-mardi-gras-ball-nashville-nights-3137
END:VEVENT

END:VCALENDAR
