BEGIN:VCALENDAR
VERSION:2.0
PRODID:-//ChamberMaster//Event Calendar 2.0//EN
METHOD:PUBLISH
X-PUBLISHED-TTL:P3D
REFRESH-INTERVAL:P3D
CALSCALE:GREGORIAN
BEGIN:VEVENT
DTSTART:20260201T000000Z
DTEND:20260201T050000Z
X-MICROSOFT-CDO-ALLDAYEVENT:FALSE
SUMMARY:Krewe De Centrale Mardi Gras Ball: Casino Royale
DESCRIPTION:19th Annual Krewe de Centrale' Mardi Gras Ball\n\nTheme: Casino Royale\n\nAttire: Formal Gowns / Suits - channel the glamour and sophistication of a high-class affair\, with a hint of mystery.\n\nBand: Whiskey Row\n\n\n\nFood will be provided this year\, buffet style.\n\nFull cash bar located at the entrance\, and both ballrooms.\n\n360 Photo booth at entrance.\n\nOutdoor Patio overlooking the river.\n\n\n\nROOM RATES W/ SHUTTLE AVAILABLE THROUGH THE BALLY HOTEL\n\n**You will pay upon arrival** ROOMS ARE LIMITED\n\nhttps://book.rguest.com/wbe/group/2295/belleofbatonrouge/auth\n\nGroup : 119\n\nPass: 27352749
X-ALT-DESC;FMTTYPE=text/html:<span style="color:#4B0082\;"><span style="font-size:16px\;"><strong>19th Annual Krewe de Centrale&#39\;&nbsp\;</strong></span><strong><span style="font-size: 16px\;">Mardi Gras Ball</span></strong></span><br />\n<span style="font-size:16px\;"><span style="font-family:arial\;"><strong>Theme:</strong>&nbsp\;<font color="#daa520"><b>Casino Royale</b></font></span><br />\n<strong style="font-family: arial\;">Attire: <span style="color:#008000\;">Formal Gowns / Suits</span></strong>&nbsp\;<span style="color:#008000\;">- channel the&nbsp\;glamour and sophistication of a high-class affair\, with a hint of mystery.</span></span><br />\n<span style="font-size:16px\;"><strong style="font-family: arial\;">Band: <font color="#4b0082">Whiskey Row</font></strong></span><br />\n<br />\n<span style="font-size:18px\;"><strong><span style="color:#4B0082\;">Food will be provided this year\, buffet style.</span><br />\n<span style="color:#DAA520\;">Full cash bar located at the entrance\, and both ballrooms.</span><br />\n<span style="color:#008000\;">360 Photo booth at entrance.<br />\nOutdoor Patio overlooking the river.</span><br />\n<br />\n<span style="color:#FFFFFF\;"><span style="background-color:#008000\;">ROOM RATES W/ SHUTTLE AVAILABLE THROUGH THE BALLY HOTEL</span></span><br />\n<span style="color:#008000\;"><span style="font-size:14px\;">**You will pay upon arrival** ROOMS ARE LIMITED</span></span></strong></span><br />\n<span style="color:black\;"><a href="https://book.rguest.com/wbe/group/2295/belleofbatonrouge/auth">https://book.rguest.com/wbe/group/2295/belleofbatonrouge/auth</a><br />\nGroup : 119<br />\nPass: 27352749</span><br />\n<br />\n<br />\n&nbsp\;
LOCATION:The Queen Casino 1717 River Park Blvd\, Baton Rouge\, LA 70802
UID:e.1367.3239
SEQUENCE:3
DTSTAMP:20260420T003940Z
URL:https://business.cityofcentralchamber.com/events/details/krewe-de-centrale-mardi-gras-ball-casino-royale-3239
END:VEVENT

END:VCALENDAR
