BEGIN:VCALENDAR
VERSION:2.0
PRODID:-//ChamberMaster//Event Calendar 2.0//EN
METHOD:PUBLISH
X-PUBLISHED-TTL:P3D
REFRESH-INTERVAL:P3D
CALSCALE:GREGORIAN
BEGIN:VEVENT
DTSTART:20230205T010000Z
DTEND:20230205T055500Z
X-MICROSOFT-CDO-ALLDAYEVENT:FALSE
SUMMARY:Krewe De Centrale Mardi Gras Ball: A Night With The Stars
DESCRIPTION:16th Annual Krewe de Centrale'\n\nMardi Gras Ball\n\nA Night With The Stars\n\nFeb. 4\, 2023
X-ALT-DESC;FMTTYPE=text/html:<span style="font-size:16px\;"><span style="font-family:arial\;"><strong>16th Annual Krewe de Centrale&#39\;</strong></span></span><br />\n<span style="font-family: arial\; font-size: 16px\;">Mardi Gras Ball</span><br />\n<span style="font-size:16px\;"><span style="font-family:arial\;"><strong>A Night With The Stars</strong><br />\nFeb. 4\, 2023</span></span>
LOCATION:Central Community Athletics
UID:e.1367.3056
SEQUENCE:3
DTSTAMP:20260422T140559Z
URL:https://business.cityofcentralchamber.com/events/details/krewe-de-centrale-mardi-gras-ball-a-night-with-the-stars-3056
END:VEVENT

END:VCALENDAR
